BEGIN:VCALENDAR
VERSION:2.0
PRODID:-//ChamberMaster//Event Calendar 2.0//EN
METHOD:PUBLISH
X-PUBLISHED-TTL:P3D
REFRESH-INTERVAL:P3D
CALSCALE:GREGORIAN
BEGIN:VEVENT
DTSTART:20150924T003000Z
DTEND:20150924T040000Z
X-MICROSOFT-CDO-ALLDAYEVENT:FALSE
SUMMARY:Taste of Laguna 2015\, presented by the LBCC & Starfish Laguna Beach
DESCRIPTION:The Laguna Beach Chamber of Commerce and Starfish Laguna Beach present "Taste of Laguna"\, a foodie event replete with tantalizing tastes. Graze and savor a vast variety of local fare\, presented by some of Laguna Beach's leading culinary stars.  A variety of wines\, craft beers\, and tequila will also be presented.\n\n\n\nYou must be 21 or over to attend\, photo ID required.  No outside food/beverages\, no chairs\, blankets\, nor picnic equipment permitted.\n\n\n\nParticipating restaurants/vintners/beer/spirits:  Starfish Laguna Beach\, BJ's\, Broadway by Amar Santana\, Centr l\, The Cliff\, Driftwood Kitchen\, K'ya Bistro\, Laguna Beach Beer Company\, Las Brisas\, Lumberyard\, Marine Room Tavern\, Mastro's Ocean Club\, Mosaic Bar & Grille at the Montage\, Mozambique\, Nirvana Grille\, Okura Robata Grill & Sushi Bar\, Organic Cellar\, Rooftop Lounge\, Rugg Family Wines\, Sergio's Empanadas\, Slapfish\, Splashes\, Tivoli Too!\, Tommy Bahama\, Tortilla Republic\, Tres Sietes Tequila\, Whole Foods Market.\n\n\n\nParticipating businesses & organizations:  Firebrand Media\, Ganahl Lumber\, Laguna Beach Fire Dept.\, Laguna Beach Marine Safety\, Laguna Beach Police Dept.\, Laguna Travel Service\, Renewal by Andersen\, Sawdust Studio Art Classes\, Waddell & Reed.\n\n\n\nPhoto bus booth sponsored by Tortilla Republic: don't miss it!\n\n\n\nReceive a free first ride (up to $25) when you use Uber as a new subscriber!  Click here to sign up.
X-ALT-DESC;FMTTYPE=text/html:<span style="font-size:14px\;"><span style="font-family: verdana\;"><span style="color: rgb(0\, 102\, 153)\;">The Laguna Beach Chamber of Commerce and Starfish Laguna Beach present &quot\;Taste of Laguna&quot\;\, a foodie event replete with tantalizing tastes. Graze and savor a vast variety of local fare\, presented by some of Laguna Beach&#39\;s leading culinary stars.&nbsp\; A variety of wines\, craft beers\, and tequila will also be presented.<br />\n<br />\nYou must be 21 or over to attend\, photo ID required.&nbsp\; No outside food/beverages\, no chairs\, blankets\, nor picnic equipment permitted.<br />\n<br />\n<u><em>Participating restaurants/vintners/beer/spirits:</em></u>&nbsp\; </span><em><u><a href="http://directory.lagunabeachchamber.org/list/member/starfish-laguna-llc-1376"><span style="color:#0000CD\;">Starfish Laguna Beach</span></a></u></em><span style="color: rgb(0\, 102\, 153)\;">\, BJ&#39\;s\, Broadway by Amar Santana\, Centr&aacute\;l\, The Cliff\, Driftwood Kitchen\, K&#39\;ya Bistro\, Laguna Beach Beer Company\, Las Brisas\, Lumberyard\, Marine Room Tavern\, Mastro&#39\;s&nbsp\;Ocean Club\, Mosaic Bar &amp\; Grille at the Montage\,&nbsp\;Mozambique\, Nirvana Grille\, Okura Robata Grill &amp\; Sushi Bar\, Organic Cellar\, Rooftop Lounge\, Rugg Family Wines\, Sergio&#39\;s Empanadas\,&nbsp\;Slapfish\, Splashes\, Tivoli Too!\, Tommy Bahama\, Tortilla Republic\, Tres Sietes Tequila\, Whole Foods Market.<br />\n<br />\n<u><em>Participating businesses &amp\; organizations:</em></u>&nbsp\; Firebrand Media\, Ganahl Lumber\, Laguna Beach Fire Dept.\, Laguna Beach Marine Safety\, Laguna Beach Police Dept.\, Laguna Travel Service\, Renewal by Andersen\, Sawdust Studio Art Classes\, Waddell &amp\; Reed.<br />\n<br />\nPhoto bus booth sponsored by </span><em><a href="http://directory.lagunabeachchamber.org/list/member/tortilla-republic-292"><span style="color:#0000CD\;">Tortilla Republic</span></a></em><span style="color: rgb(0\, 102\, 153)\;">: don&#39\;t miss it!<br />\n<br />\nReceive a free first ride (up to $25) when you use Uber as a new subscriber!&nbsp\; <em><a href="https://get.uber.com/go/254u">Click here to sign up.</a></em>&nbsp\; </span></span></span>
LOCATION:New location for 2015: Tivoli Too restaurant\, 777 Laguna Canyon Road\, Laguna Beach
UID:e.2209.507
SEQUENCE:3
DTSTAMP:20260420T182246Z
URL:https://www.lagunabeachchamber.org/events/details/taste-of-laguna-2015-presented-by-the-lbcc-starfish-laguna-beach-507
END:VEVENT

END:VCALENDAR
