BEGIN:VCALENDAR
VERSION:2.0
PRODID:-//ChamberMaster//Event Calendar 2.0//EN
METHOD:PUBLISH
X-PUBLISHED-TTL:P3D
REFRESH-INTERVAL:P3D
CALSCALE:GREGORIAN
BEGIN:VEVENT
DTSTART:20241026T160000Z
DTEND:20241026T210000Z
X-MICROSOFT-CDO-ALLDAYEVENT:FALSE
SUMMARY:Soulshine Vintage Market
DESCRIPTION:Join us for our Soulshine monthly pop-up market. This event brings together a curated selection of vintage treasures along with local artists. We will have flash tattoos by Sketchy Bizz and complimentary refreshments. You won't want to miss the fall fun!
X-ALT-DESC;FMTTYPE=text/html:Join us for our Soulshine monthly pop-up market. This event brings together a curated selection of vintage treasures along with local artists. We will have flash tattoos by Sketchy Bizz and complimentary refreshments. You won&#39\;t want to miss the fall fun!
LOCATION:Soulshine Laguna 976 South Coast Highway down the alley
UID:e.2209.72101
SEQUENCE:3
DTSTAMP:20260424T195914Z
URL:https://www.lagunabeachchamber.org/events/details/soulshine-vintage-market-72101
END:VEVENT

END:VCALENDAR
