BEGIN:VCALENDAR
VERSION:2.0
PRODID:-//ChamberMaster//Event Calendar 2.0//EN
METHOD:PUBLISH
X-PUBLISHED-TTL:P3D
REFRESH-INTERVAL:P3D
CALSCALE:GREGORIAN
BEGIN:VEVENT
DTSTART:20240531T003000Z
DTEND:20240531T023000Z
X-MICROSOFT-CDO-ALLDAYEVENT:FALSE
SUMMARY:Sonder Woods Cove Ribbon Cutting
DESCRIPTION:On Thursday\, May 30th at 5:30 pm\, join the Laguna Beach Chamber of Commerce for a Ribbon Cutting Ceremony celebrating Sonder Woods Cove.\n\n\n\n"We are thrilled to revitalize what was once Las Ondas\, a 1940s motel located on Pacific Coast Highway. Woods Cove has set the bar high for guest room design in Laguna Beach. Partnering with Sonder\, we hope to delight guests with memories and great experiences for years to come\," said Blake Marriott\, Principal at LBIO\, LLC.\n\n \n\n"Our signature design-forward\, tech-enabled experience appeals to the next generation of travelers\, and we look forward to welcoming business and leisure guests to our new properties\," said Kevin Arcaro\, Area General Manager at Sonder.\n\n \n\nOccupying a prime location one block from the ocean in Laguna Beach\, Sonder Woods Cove is a beautifully renovated 25-key hotel that is now part of Sonder's portfolio. Rooms and suites feature warm earth tones\, rattan furnishings\, and marble bathrooms\, mirroring the serenity of the town's famous vistas. When not enjoying the beach or savoring rustic cuisine at nearby restaurants\, guests of Woods Cove can relax on the property's rooftop terrace\, or by its swimming pool.\n\n \n\nFor those in attendance\, Sonder Woods Cove will have open showrooms\, light bites\, self-guided tours\, and an opportunity to win a 2-night stay at Woods Cove!\n\nSonder Woods Cove is located at 2020 S. Coast Highway\, Laguna Beach\, CA 92651.\n\n \n\nSonder Woods Cove is also providing an exclusive discount through Visit Laguna Beach. Take advantage of this exclusive discount at Woods Cove by using Promotional code: VISITLAGUNABEACH10\nRegistration is required. No Fee Applied.\n\nClick on Register    to RSVP.\n\nPlease RSVP! \n \n\n\n\nSonder Holdings Inc. Expands in Southern California with Openings in Downtown Los Angeles and Orange County\, Including Office-to-Hotel Conversions\n\n\n\nAbout Sonder\n\nSonder (NASDAQ: SOND) is revolutionizing hospitality through innovative\, tech-enabled service and inspiring\, thoughtfully designed accommodations combined into one seamless experience. Launched in 2014\, Sonder provides a variety of accommodation options   from spacious rooms to fully-equipped suites and apartments   found in over 40 markets spanning ten countries and three continents. The Sonder app gives guests full control over their stay. Complete with self-service features\, simple check-in and 24/7 on-the-ground support\, amenities and services at Sonder are just a tap away\, making a world of better stays open to all.\n\n\n\nTo learn more\, visit www.sonder.com or follow Sonder on Instagram\, LinkedIn or X.\n\n\n\nDownload the Sonder app on Apple or Google Play.
X-ALT-DESC;FMTTYPE=text/html:<br />\n<span style="font-size:14px\;"><span style="font-family:tahoma\;">On Thursday\, May 30th at 5:30 pm\, join the Laguna Beach Chamber of Commerce for a Ribbon Cutting Ceremony celebrating&nbsp\;<a href="https://www.sonder.com/destinations/los_angeles/LOS-S-COAS2020-11/c36051?sleeps=1"><span style="color:#0000FF\;"><strong>Sonder</strong> </span></a><strong><a href="https://www.sonder.com/destinations/los_angeles/LOS-S-COAS2020-11/c36051?sleeps=1"><span style="color:#0000FF\;">Woods Cove</span></a>.</strong></span></span><br />\n<br />\n&ldquo\;We are thrilled to revitalize what was once Las Ondas\, a 1940s motel located on Pacific Coast Highway. Woods Cove has set the bar high for guest room design in Laguna Beach. Partnering with Sonder\, we hope to delight guests with memories and great experiences for years to come\,&rdquo\; said Blake Marriott\, Principal at LBIO\, LLC.<br />\n&nbsp\;<br />\n&ldquo\;Our signature design-forward\, tech-enabled experience appeals to the next generation of travelers\, and we look forward to welcoming business and leisure guests to our new properties\,&rdquo\; said Kevin Arcaro\, Area General Manager at Sonder.<br />\n&nbsp\;<br />\nOccupying a prime location one block from the ocean in Laguna Beach\, <strong>Sonder Woods Cove</strong> is a beautifully renovated 25-key hotel that is now part of Sonder&rsquo\;s portfolio. Rooms and suites feature warm earth tones\, rattan furnishings\, and marble bathrooms\, mirroring the serenity of the town&rsquo\;s famous vistas. When not enjoying the beach or savoring rustic cuisine at nearby restaurants\, guests of Woods Cove can relax on the property&rsquo\;s rooftop terrace\, or by its swimming pool.<br />\n&nbsp\;<br />\nFor those in attendance\, <strong>Sonder Woods Cove&nbsp\;</strong>will have open showrooms\, light bites\, self-guided tours\, and an opportunity to win a 2-night stay at Woods Cove!<br />\n<strong>Sonder Woods Cove</strong> is located at 2020 S. Coast Highway\, Laguna Beach\, CA 92651.<br />\n&nbsp\;<br />\nSonder Woods Cove is also providing an exclusive discount through <a href="https://www.visitlagunabeach.com/directory/woods-cove-sonder/"><span style="color:#0000FF\;">Visit Laguna Beach</span></a>. <em>Take advantage of this exclusive discount at Woods Cove by using Promotional code: VISITLAGUNABEACH10</em>\n<div style="text-align: center\;"><span style="font-size:14px\;"><span style="font-family:tahoma\;"><span background-color:="" font-size:="" style="color: rgb(51\, 51\, 51)\; background-color: rgb(255\, 255\, 255)\;" text-align:="" trebuchet="">Registration is required. No Fee Applied.</span><br background-color:="" font-size:="" style="color: rgb(51\, 51\, 51)\; font-family: arial\; font-size: 18px\; background-color: rgb(255\, 255\, 255)\;" text-align:="" trebuchet="" />\n<span background-color:="" font-size:="" style="color: rgb(51\, 51\, 51)\; background-color: rgb(255\, 255\, 255)\;" text-align:="" trebuchet=""><span style="color: rgb(12\, 12\, 12)\;">Click on&nbsp\;</span><strong style="color: rgb(12\, 12\, 12)\;">Register &gt\;&gt\;</strong><span style="color: rgb(12\, 12\, 12)\;">&nbsp\;to RSVP.</span></span><br style="color: rgb(51\, 51\, 51)\; font-family: arial\; font-size: 18px\; background-color: rgb(255\, 255\, 255)\;" />\n<strong>Please RSVP!&nbsp\;</strong></span></span>\n<div>&nbsp\;</div>\n</div>\n<br />\n<span style="font-family:tahoma\;"><span style="font-size:14px\;"><a href="https://investors.sonder.com/news-releases/news-release-details/sonder-holdings-inc-expands-southern-california-openings"><span style="color:#0000FF\;">Sonder Holdings Inc. Expands in Southern California with Openings in Downtown Los Angeles and Orange County\, Including Office-to-Hotel Conversions</span></a><br />\n<br />\nAbout Sonder<br />\nSonder (NASDAQ: SOND) is revolutionizing hospitality through innovative\, tech-enabled service and inspiring\, thoughtfully designed accommodations combined into one seamless experience. Launched in 2014\, Sonder provides a variety of accommodation options &mdash\; from spacious rooms to fully-equipped suites and apartments &mdash\; found in over 40 markets spanning ten countries and three continents. The Sonder app gives guests full control over their stay. Complete with self-service features\, simple check-in and 24/7 on-the-ground support\, amenities and services at Sonder are just a tap away\, making a world of better stays open to all.<br />\n<br />\nTo learn more\, visit <a href="https://www.sonder.com/"><span style="color:#0000FF\;">www.sonder.com</span></a> or follow Sonder on <a href="https://www.instagram.com/sonderstays/?hl=en"><span style="color:#0000FF\;">Instagram</span></a>\, <a href="https://www.linkedin.com/company/sonder-inc/"><span style="color:#0000FF\;">LinkedIn</span></a> or <a href="https://twitter.com/sonderstays"><span style="color:#0000FF\;">X.</span></a><br />\n<br />\nDownload the Sonder app on <a href="https://apps.apple.com/us/app/sonder-a-better-way-to-stay/id1422914567"><span style="color:#0000FF\;">Apple</span></a> or <a href="https://play.google.com/store/apps/details?id=com.sonder.mahalo&amp\;hl=en_US&amp\;gl=US&amp\;pli=1"><span style="color:#0000FF\;">Google Play</span></a>.</span></span><br />\n<br />\n&nbsp\;
LOCATION:Sonder Woods Cove
UID:e.2209.72014
SEQUENCE:3
DTSTAMP:20260421T035654Z
URL:https://www.lagunabeachchamber.org/events/details/sonder-woods-cove-ribbon-cutting-72014
END:VEVENT

END:VCALENDAR
