BEGIN:VCALENDAR
VERSION:2.0
PRODID:-//ChamberMaster//Event Calendar 2.0//EN
METHOD:PUBLISH
X-PUBLISHED-TTL:P3D
REFRESH-INTERVAL:P3D
CALSCALE:GREGORIAN
BEGIN:VEVENT
DTSTART:20230809T013000Z
DTEND:20230809T030000Z
X-MICROSOFT-CDO-ALLDAYEVENT:FALSE
SUMMARY:Self-Care for Knees and Shoulders at Health in Balance
DESCRIPTION:Gary Arthur\, D.C. will be providing you with self-care tools for the knees and shoulders including stretches\, protocols and lifestyle hacks to get out of pain\, heal from injuries\, and prevent future issues!\n\n\n\nLight Dinner Provided!\n\nFree Workshop!\n\n\n\nInvite a family member or friend who has experienced knee or shoulder problems\, for I'm sure we all know someone who could use a little healing!\n\n\n\nSign Up at https://www.healthinbalance.com/self-care-knees-shoulders-workshop/
X-ALT-DESC;FMTTYPE=text/html:<br />\n<span style="color:black"><span style="font-family:arial\,sans-serif">Gary Arthur\, D.C. will be providing you with self-care tools for the knees and shoulders including stretches\, protocols and lifestyle hacks to get out of pain\, heal from injuries\, and prevent future issues!</span></span><br />\n<br />\n<span style="color:black"><span style="font-family:arial\,sans-serif">Light Dinner Provided!</span></span><br />\n<span style="color:black"><span style="font-family:arial\,sans-serif">Free Workshop!</span></span><br />\n<br />\n<span style="color:black"><span style="font-family:arial\,sans-serif">Invite a family member or friend who has experienced knee or shoulder problems\, for I&rsquo\;m sure we all know someone who could use a little healing!</span></span><br />\n<br />\n<span style="color:black"><span style="font-family:arial\,sans-serif">Sign Up at </span></span><a href="https://www.healthinbalance.com/self-care-knees-shoulders-workshop/" style="text-decoration-line:none\;"><span style="font-family:arial\,sans-serif">https://www.healthinbalance.com/self-care-knees-shoulders-workshop/</span></a>
LOCATION:Health in Balance
UID:e.2209.71879
SEQUENCE:3
DTSTAMP:20260424T085450Z
URL:https://www.lagunabeachchamber.org/events/details/self-care-for-knees-and-shoulders-at-health-in-balance-71879
END:VEVENT

END:VCALENDAR
