BEGIN:VCALENDAR
VERSION:2.0
PRODID:-//ChamberMaster//Event Calendar 2.0//EN
METHOD:PUBLISH
X-PUBLISHED-TTL:P3D
REFRESH-INTERVAL:P3D
CALSCALE:GREGORIAN
BEGIN:VEVENT
DTSTART:20251107T013000Z
DTEND:20251107T033000Z
X-MICROSOFT-CDO-ALLDAYEVENT:FALSE
SUMMARY:Pinafini Ribbon Cutting
DESCRIPTION:Pinafini Restaurant and Bar Celebrate its Grand Opening with a Ribbon Cutting Ceremony in Partnership with Laguna Beach Chamber of Commerce.\n\n \n\nLaguna Beach\, CA-  Pinafini Restaurant and Bar is a stylishly designed space that boasts stunning ocean views\, an inviting atmosphere\, and a carefully curated selection of wines and handcrafted cocktails that compliments delish flavors of the Mediterranean. We are thrilled to announce its grand opening celebration with a ribbon-cutting ceremony on Thursday\, November 6th\, from 5:30 pm - 7:30 pm. The event will take place at 480 S Coast Hwy\, Laguna Beach\, CA 92651.\n\n \n\nJoin us as we celebrate this exciting milestone in our community. The ribbon cutting will be officiated by the Laguna Beach Chamber of Commerce\, along with local dignitaries\, honored guests\, and members of the community.\n\n \n\n"We are excited to open our doors to the Laguna Beach community\," said Vasken Haitayan\, Proprietor of Pinafini Restaurant & Bar. "We believe in the power of local businesses to strengthen the community and provide unique offerings to residents and visitors alike. We?re looking forward to being a part of this vibrant area."\n\n \n\nThe celebration will include a live guitarist/singer\, providing attendees a chance to experience what makes Pinafini Restaurant and Bar unique. Community members are invited to visit and learn more about our restaurant.\n\n \n\nEvent Details:\n\n \n\nWhat: Ribbon Cutting Ceremony for Pinafini Restaurant and Bar\n\nWhen: Thursday\, November 6th \, from 5:30 pm -7:30 pm\n\nWhere: 480 S Coast Hwy\, Laguna Beach\, CA 92651\n\nRSVP: EVENT IS FULL\n\n \n\nFor more information about Pinafini Restaurant and Bar\, please visit  https://www.pinafini.com/  or contact us at (949) 313-7670\n\n \n\nWe look forward to celebrating with our community!\n\n \n\n About Pinafini Restaurant and Bar\n\nNestled in the heart of Laguna Beach\, Pinafini Restaurant & Bar offers a refreshing twist on Mediterranean cuisine\, inviting guests to embark on a culinary journey inspired by sun soaked costs and vibrant flavors. At pinafini\, we believe in creating a dining experience that engages all the senses. Our stylishly designed space boasts stunning ocean views\, an inviting atmosphere\, and a carefully curated selection of wines and handcrafted cocktails. Join us to savor bold flavors and discover the unique essence of Mediterranean cuisine\, reimagined for the modern palate. It's not just the food\, it's an escape.
X-ALT-DESC;FMTTYPE=text/html:&nbsp\;\n<p style="margin:0in"><span style="font-family:arial\;"><span style="font-size:14px\;"><b>Pinafini Restaurant and Bar </b>Celebrate its Grand Opening&nbsp\;with a Ribbon Cutting Ceremony in Partnership with Laguna Beach Chamber of Commerce.</span></span></p>\n\n<p style="margin:0in"><span style="font-family:arial\;"><span style="font-size:14px\;">&nbsp\;</span></span></p>\n\n<p style="margin:0in"><span style="font-family:arial\;"><span style="font-size:14px\;">Laguna Beach\, CA-&nbsp\;&nbsp\;<b>Pinafini Restaurant and Bar</b> is a stylishly designed space that boasts stunning ocean views\, an inviting atmosphere\, and a carefully curated selection of wines and handcrafted cocktails that compliments delish flavors of the Mediterranean. We are thrilled to announce its grand opening celebration&nbsp\;with a ribbon-cutting ceremony on <b>Thursday\, November 6<sup>th\,</sup></b><b> from 5:30 pm - 7:30 pm</b>. The event will take place at <b>480 S Coast Hwy\, Laguna Beach\, CA 92651.</b></span></span></p>\n\n<p style="margin:0in"><span style="font-family:arial\;"><span style="font-size:14px\;">&nbsp\;</span></span></p>\n\n<p style="margin:0in"><span style="font-family:arial\;"><span style="font-size:14px\;">Join us as we celebrate this exciting milestone in our community. The ribbon cutting will be officiated by the Laguna Beach Chamber of Commerce\, along with local dignitaries\, honored guests\, and members of the community.</span></span><br />\n&nbsp\;</p>\n\n<p style="margin:0in">&quot\;We are excited to open our doors to the Laguna Beach community\,&quot\; said Vasken Haitayan\, Proprietor of Pinafini Restaurant &amp\; Bar. &quot\;We believe in the power of local businesses to strengthen the community and provide unique offerings to residents and visitors alike. We?re looking forward to being a part of this vibrant area.&quot\;</p>\n\n<p style="margin:0in"><span style="font-family:arial\;"><span style="font-size:14px\;">&nbsp\;</span></span></p>\n\n<p style="margin:0in"><span style="font-family:arial\;"><span style="font-size:14px\;">The celebration will include a live guitarist/singer\,&nbsp\;providing attendees a chance to experience what makes <b>Pinafini Restaurant and Bar</b> unique. Community members are invited to visit and learn more about our restaurant.</span></span></p>\n\n<p style="margin:0in"><span style="font-family:arial\;"><span style="font-size:14px\;">&nbsp\;</span></span></p>\n\n<p style="margin:0in"><span style="font-family:arial\;"><span style="font-size:14px\;">Event Details:</span></span></p>\n\n<p style="margin:0in"><span style="font-family:arial\;"><span style="font-size:14px\;">&nbsp\;</span></span></p>\n\n<p style="margin:0in"><span style="font-family:arial\;"><span style="font-size:14px\;">What: Ribbon Cutting Ceremony for <b>Pinafini Restaurant and Bar</b></span></span></p>\n\n<p style="margin:0in"><span style="font-family:arial\;"><span style="font-size:14px\;">When: Thursday\, November 6<sup>th</sup>&nbsp\;\, from 5:30 pm -7:30 pm</span></span></p>\n\n<p style="margin:0in"><span style="font-family:arial\;"><span style="font-size:14px\;">Where: <b>480 S Coast Hwy\, Laguna Beach\, CA 92651</b></span></span></p>\n\n<p style="margin:0in"><span style="font-family:arial\;"><span style="font-size:14px\;">RSVP: <strong>EVENT IS FULL</strong></span></span></p>\n\n<p style="margin:0in"><span style="font-family:arial\;"><span style="font-size:14px\;">&nbsp\;</span></span></p>\n\n<p style="margin:0in"><span style="font-family:arial\;"><span style="font-size:14px\;">For more information about <b>Pinafini Restaurant and Bar\, </b>please visit&nbsp\; <a href="https://www.pinafini.com/" style="text-decoration-line:none">https://www.pinafini.com/</a> <b>&nbsp\;</b>or contact us at <a href="https://www.google.com/search?gs_ssp=eJzj4tVP1zc0LC8sSjdIrio2YLRSNaiwMEhJTjVNMjVMMU1NTExMsjKoAPJSDZNMTS2Tjc0sU9NMvDgKMvMS0zLzMgF0-RO5&amp\;q=pinafini&amp\;rlz=1C1GCEU_enUS986US988&amp\;oq=pinafini&amp\;gs_lcrp=EgZjaHJvbWUqFQgBEC4YJxivARjHARiABBiKBRiOBTIPCAAQIxgnGOMCGIAEGIoFMhUIARAuGCcYrwEYxwEYgAQYigUYjgUyBwgCEAAYgAQyBwgDEAAYgAQyBwgEEAAYgAQyBggFEEUYPDIGCAYQRRg8MgYIBxBFGDzSAQgyNDI5ajBqN6gCALACAA&amp\;sourceid=chrome&amp\;ie=UTF-8" style="text-decoration-line:none">(949) 313-7670</a></span></span></p>\n\n<p style="margin:0in"><span style="font-family:arial\;"><span style="font-size:14px\;">&nbsp\;</span></span></p>\n\n<p style="margin:0in"><span style="font-family:arial\;"><span style="font-size:14px\;">We look forward to celebrating with our community!</span></span><br />\n&nbsp\;</p>\n\n<p style="margin:0in"><span style="font-family:arial\;"><span style="font-size:14px\;">&nbsp\;About <b>Pinafini Restaurant and Bar</b></span></span></p>\n\n<p style="margin:0in"><span style="font-family:arial\;"><span style="font-size:14px\;">Nestled in the heart of Laguna Beach\, Pinafini Restaurant &amp\; Bar offers a refreshing twist on Mediterranean cuisine\, inviting guests to embark on a culinary journey inspired by sun soaked costs and vibrant flavors. At pinafini\, we believe in creating a dining experience that engages all the senses. Our stylishly designed space boasts stunning ocean views\, an inviting atmosphere\, and a carefully curated selection of wines and handcrafted cocktails. Join us to savor bold flavors and discover the unique essence of Mediterranean cuisine\, reimagined for the modern palate. It&#39\;s not just the food\, it&#39\;s an escape.</span></span></p>\n\n<p style="margin:0in">&nbsp\;</p>\n<scribe-shadow data-crx="okfkdaglfjjjfefdcppliegebpoegaii" id="crxjs-ext" style="position: fixed\; width: 0px\; height: 0px\; top: 0px\; left: 0px\; z-index: 2147483647\; overflow: visible\; visibility: visible\;"></scribe-shadow>
LOCATION:Pinafini
UID:e.2209.72748
SEQUENCE:3
DTSTAMP:20260422T063816Z
URL:https://www.lagunabeachchamber.org/events/details/pinafini-ribbon-cutting-72748
END:VEVENT

END:VCALENDAR
