BEGIN:VCALENDAR
VERSION:2.0
PRODID:-//ChamberMaster//Event Calendar 2.0//EN
METHOD:PUBLISH
X-PUBLISHED-TTL:P3D
REFRESH-INTERVAL:P3D
CALSCALE:GREGORIAN
BEGIN:VEVENT
DTSTART:20250327T003000Z
DTEND:20250327T023000Z
X-MICROSOFT-CDO-ALLDAYEVENT:FALSE
SUMMARY:Pacific Edge Hotel: Meet & Greet
DESCRIPTION:Laguna Beach Chamber of Commerce\n\nMeet & Greet\n\nJoin us for a special meet and greet event at Pacific Edge Hotel\, where you can meet our new and existing members. \n\nYou can enjoy delicious appetizers\, and a beautiful view while mingling with like-minded individuals.\n\n\n\n\n\nRegistration is required.\n\nClick on Register    to Purchase Tickets.\n\nTickets are available for purchase until sold out.\n\n\n\nChamber Members $35\n\nProspective Members $45\n\n$5 off for Early Registration for Members and Prospective Members available until 5:30pm on March 6th. Book early because the price goes up at 5:30pm on March 6th!\n\n\n\nTicket includes access to select appetizers and a welcome glass of Champagne.\n\n\n\nPLUS an opportunity drawing including these prizes:\n\nOvernight guest stay\n\nComplimentary Bungalow Rental and $250 food & beverage voucher\n\nGift Certificates to The Deck (2) at $150 each. \n\n \n\nAdditional beverages will be available for purchase (Cash Bar only) from a special happy hour cocktail menu along with beer and wine selections.\n\n\n\nWe look forward to welcoming you!\n\n \n\nBy attending this event\, you hereby consent to have your photo/likeness/recordings posted publicly in advertising and on social media by the Laguna Beach Chamber of Commerce and its partners.\n\n \n\nQuestions? Please reach out to us at info@lagunabeachchamber.org or 949-494-1018
X-ALT-DESC;FMTTYPE=text/html:<p dir="ltr" style="line-height: 1.38\; margin-top: 0pt\; margin-bottom: 0pt\; text-align: center\;">&nbsp\;<span style="font-family:arial\;">&nbsp\;</span><span style="font-size:24px\;"><span style="font-size:28px\;">&nbsp\;&nbsp\;</span><span style="color: rgb(34\, 34\, 34)\; background-color: transparent\; font-weight: 700\; font-variant-numeric: normal\; font-variant-east-asian: normal\; vertical-align: baseline\; white-space: pre-wrap\;"><span style="font-size:28px\;">Laguna Beach Chamber of Commerce<br />\nMeet &amp\; Greet</span></span></span></p>\n\n<p dir="ltr" style="line-height: 1.38\; text-align: center\; margin-top: 0pt\; margin-bottom: 0pt\;"><span style="font-family:arial\;"><span style="font-size:24px\;">Join us for a special meet and greet event at Pacific Edge Hotel\, where you can meet our new and existing members.&nbsp\;<br />\nYou can enjoy delicious appetizers\, and a beautiful view while mingling with like-minded individuals.</span><br />\n<br />\n<br />\n<span style="font-size:20px\;"><span background-color:="" font-size:="" style="color: rgb(51\, 51\, 51)\; font-family: sans-serif\, Arial\, Verdana\, " text-align:="" trebuchet="">Registration is required.</span><br background-color:="" font-size:="" style="color: rgb(51\, 51\, 51)\; font-family: sans-serif\, Arial\, Verdana\, " text-align:="" trebuchet="" />\n<span background-color:="" font-size:="" style="color: rgb(51\, 51\, 51)\; font-family: sans-serif\, Arial\, Verdana\, " text-align:="" trebuchet=""><span style="color: rgb(12\, 12\, 12)\;">Click on&nbsp\;</span><strong style="color: rgb(12\, 12\, 12)\; font-family: arial\; font-size: 18px\;">Register &gt\;&gt\;</strong><span style="color: rgb(12\, 12\, 12)\;">&nbsp\;to Purchase Tickets.<br />\nTickets are available for purchase until sold out.</span></span></span><br background-color:="" font-size:="" style="color: rgb(51\, 51\, 51)\; font-family: sans-serif\, Arial\, Verdana\, " text-align:="" trebuchet="" />\n<br background-color:="" font-size:="" style="color: rgb(51\, 51\, 51)\; font-family: sans-serif\, Arial\, Verdana\, " text-align:="" trebuchet="" />\n<span background-color:="" font-size:="" style="color: rgb(51\, 51\, 51)\; font-family: sans-serif\, Arial\, Verdana\, " text-align:="" trebuchet=""><span style="font-size:20px\;">Chamber Members <strong>$35</strong><br />\nProspective Members <strong>$45</strong></span></span></span><br />\n<span style="font-size:16px\;"><span style="font-family:arial\;">$5 off for Early Registration for Members and Prospective Members available until 5:30pm on March 6th. Book early because the price goes up at 5:30pm on March 6th!</span></span></p>\n\n<p dir="ltr" style="line-height: 1.38\; text-align: center\; margin-top: 0pt\; margin-bottom: 0pt\;"><br />\n<span style="font-family:arial\;"><span background-color:="" font-size:="" style="color: rgb(51\, 51\, 51)\; font-family: sans-serif\, Arial\, Verdana\, " text-align:="" trebuchet=""><span style="font-size:20px\;"><span style="font-size:24px\;"><strong>Ticket includes&nbsp\;</strong></span></span></span></span><span style="font-size:24px\;"><span style="font-family:arial\;"><strong>access to select&nbsp\;appetizers and a welcome glass of Champagne.<br />\n<br />\nPLUS an&nbsp\;opportunity drawing including these prizes:</strong><br />\n<span style="font-size:20px\;">Overnight guest stay<br />\nComplimentary Bungalow Rental and $250 food &amp\; beverage voucher<br />\nGift Certificates to The Deck (2) at $150 each.&nbsp\;</span></span></span><br />\n&nbsp\;</p>\n\n<p dir="ltr" style="line-height: 1.38\; text-align: center\; margin-top: 0pt\; margin-bottom: 0pt\;"><span style="font-size:16px\;"><span style="font-family:arial\;"><strong background-color:="" font-size:="" style="color: rgb(51\, 51\, 51)\; font-family: sans-serif\, Arial\, Verdana\, " text-align:="" trebuchet="">Additional beverages will be available for purchase <span style="color:#FF0000\;">(Cash Bar only)</span>&nbsp\;from a special happy hour cocktail menu along with beer and wine selections.</strong></span></span><br />\n<br />\n<strong><span style="font-size:18px\;"><span style="font-family: Aptos\, sans-serif\;"><span style="font-size:24px\;">We look forward to welcoming you!</span></span></span></strong><br />\n&nbsp\;</p>\n\n<p dir="ltr" style="line-height: 1.38\; margin-top: 0pt\; margin-bottom: 0pt\;"><span style="font-size:16px\;"><span style="font-family:arial\;">By attending this event\, you hereby consent to have your photo/likeness/recordings posted publicly in advertising and on social media by the Laguna Beach Chamber of Commerce and its partners.<br />\n&nbsp\;<br />\n<span style="color:red\;">Questions? Please reach out to us at <a href="mailto:info@lagunabeachchamber.org">info@lagunabeachchamber.org</a> or 949-494-1018</span></span></span><br />\n&nbsp\;</p>\n\n<div>&nbsp\;</div>\n
LOCATION:Pacific Edge Hotel
UID:e.2209.72648
SEQUENCE:3
DTSTAMP:20260424T062647Z
URL:https://www.lagunabeachchamber.org/events/details/pacific-edge-hotel-meet-greet-72648
END:VEVENT

END:VCALENDAR
