BEGIN:VCALENDAR
VERSION:2.0
PRODID:-//ChamberMaster//Event Calendar 2.0//EN
METHOD:PUBLISH
X-PUBLISHED-TTL:P3D
REFRESH-INTERVAL:P3D
CALSCALE:GREGORIAN
BEGIN:VEVENT
DTSTART:20241017T003000Z
DTEND:20241017T023000Z
X-MICROSOFT-CDO-ALLDAYEVENT:FALSE
SUMMARY:Oak Meet and Greet
DESCRIPTION:Come mix & mingle with our new & fellow members at Oak Laguna Beach! Space is limited!\n\n \nRegistration is required.\n\nClick on Register    to reserve your tickets.\n\nTickets are available for purchase until sold out.\n\n\n\n\n\n$5 for Members\n\n$15 for Prospective Members\n\n$5 off for Early Registration for Members and Prospective Members available until 5:30pm on October 8th.\n\nBook early because the price goes up at 5:30pm on October 8th!\n\n \n\nBy attending this event\, you hereby consent to having your photo/likeness/recordings posted publicly in advertising and on social media by the Laguna Beach Chamber of Commerce and its partners.\n\n \n\nQuestions? Please reach out to us at info@lagunabeachchamber.org or 949-494-1018
X-ALT-DESC;FMTTYPE=text/html:<span style="font-family:verdana\;"><span style="font-size:24px\;">Come mix &amp\; mingle with our new &amp\; fellow members at Oak Laguna Beach! Space is limited!</span></span><br />\n&nbsp\;\n<p dir="ltr" style="box-sizing: border-box\; margin: 0pt 0px\; font-size: 16px\; color: rgb(51\, 51\, 51)\; font-family: Belleza\, sans-serif\; letter-spacing: 1px\; background-color: rgb(255\, 255\, 255)\; line-height: 1.38\; text-align: center\;"><span style="box-sizing: border-box\; font-size: 20px\;"><span background-color:="" font-size:="" style="box-sizing: border-box\;" text-align:="" trebuchet=""><span style="box-sizing: border-box\; font-family: arial\;">Registration is required.</span></span><br background-color:="" font-size:="" style="box-sizing: border-box\;" text-align:="" trebuchet="" />\n<span background-color:="" font-size:="" style="box-sizing: border-box\;" text-align:="" trebuchet=""><span style="box-sizing: border-box\; color: rgb(12\, 12\, 12)\; font-family: arial\;">Click on&nbsp\;</span><span style="box-sizing: border-box\; font-weight: bolder\; color: rgb(12\, 12\, 12)\; font-family: arial\; font-size: 18px\;">Register &gt\;&gt\;</span><span style="box-sizing: border-box\; color: rgb(12\, 12\, 12)\; font-family: arial\;">&nbsp\;to reserve your tickets.<br style="box-sizing: border-box\;" />\nTickets are available for purchase until sold out.</span></span></span><br background-color:="" font-size:="" style="box-sizing: border-box\;" text-align:="" trebuchet="" />\n<br style="box-sizing: border-box\;" />\n<br background-color:="" font-size:="" style="box-sizing: border-box\;" text-align:="" trebuchet="" />\n<span style="box-sizing: border-box\; font-size: 18px\;"><span style="box-sizing: border-box\; font-family: arial\;"><span background-color:="" font-size:="" style="box-sizing: border-box\;" trebuchet=""><span style="box-sizing: border-box\; font-weight: bolder\;">$5</span>&nbsp\;for Members<br />\n<strong>$15</strong> for&nbsp\;Prospective Members</span><br font-size:="" style="box-sizing: border-box\;" trebuchet="" />\n<span background-color:="" font-size:="" style="box-sizing: border-box\;" trebuchet=""><span style="box-sizing: border-box\; font-weight: bolder\;">$5 off </span>for Early Registration&nbsp\;</span><span background-color:="" font-size:="" style="box-sizing: border-box\;" trebuchet="">for Members and Prospective Members&nbsp\;</span><span background-color:="" font-size:="" style="box-sizing: border-box\;" trebuchet="">available until 5:30pm on October 8th.</span><br font-size:="" style="box-sizing: border-box\;" trebuchet="" />\n<span style="box-sizing: border-box\; font-weight: bolder\;"><em style="box-sizing: border-box\;"><span background-color:="" font-size:="" style="box-sizing: border-box\;" trebuchet="">Book early because the price goes up&nbsp\;at 5:30pm on October 8th!</span></em></span></span></span><br background-color:="" font-size:="" style="box-sizing: border-box\;" text-align:="" trebuchet="" />\n&nbsp\;</p>\n\n<p dir="ltr" style="box-sizing: border-box\; margin: 0pt 0px\; font-size: 16px\; outline: 0px\; color: rgb(51\, 51\, 51)\; font-family: Belleza\, sans-serif\; letter-spacing: 1px\; background-color: rgb(255\, 255\, 255)\; line-height: 1.38\;"><span style="box-sizing: border-box\; font-size: 18px\;"><span style="box-sizing: border-box\; font-family: arial\;">By attending this event\, you hereby consent to having your photo/likeness/recordings posted publicly in advertising and on social media by the Laguna Beach Chamber of Commerce and its partners.<br style="box-sizing: border-box\;" />\n&nbsp\;<br style="box-sizing: border-box\;" />\n<span style="box-sizing: border-box\; color: red\;">Questions? Please reach out to us at&nbsp\;<a href="mailto:info@lagunabeachchamber.org" style="box-sizing: border-box\; background-color: transparent\; color: rgb(0\, 105\, 153)\; text-decoration-line: none\; overflow-wrap: break-word\;">info@lagunabeachchamber.org</a>&nbsp\;or 949-494-1018</span></span></span></p>\n
LOCATION:Oak Laguna Beach
UID:e.2209.72082
SEQUENCE:3
DTSTAMP:20260424T125110Z
URL:https://www.lagunabeachchamber.org/events/details/oak-meet-and-greet-72082
END:VEVENT

END:VCALENDAR
