BEGIN:VCALENDAR
VERSION:2.0
PRODID:-//ChamberMaster//Event Calendar 2.0//EN
METHOD:PUBLISH
X-PUBLISHED-TTL:P3D
REFRESH-INTERVAL:P3D
CALSCALE:GREGORIAN
BEGIN:VEVENT
DTSTART:20230724T000000Z
DTEND:20230724T030000Z
X-MICROSOFT-CDO-ALLDAYEVENT:FALSE
SUMMARY:Music in the Park: ADAAWE
DESCRIPTION:Music in the Park is a free public concert series held Sunday evenings in July and August\, at Bluebird Park. Concerts start at 5:00 p.m. Set up is not permitted before 3:00 p.m. No dogs allowed at Bluebird Park. No smoking. No display or sale of merchandise. Low-seating beach chairs are encouraged. Alcohol is permitted for guests 21 or older\, but must be accompanied by a full meal. Solicitation of any kind is not permitted at City events.
X-ALT-DESC;FMTTYPE=text/html:<span style="color:#000000\;"><span style="font-family: &quot\;PT Sans Regular&quot\;\, sans-serif\; font-size: 14px\; background-color: rgb(255\, 255\, 255)\;">Music in the Park is a free public concert series held Sunday evenings in July and August\, at Bluebird Park. Concerts start at 5:00 p.m</span><span style="box-sizing: border-box\; font-weight: 700\; font-family: &quot\;PT Sans Regular&quot\;\, sans-serif\; font-size: 14px\; background-color: rgb(255\, 255\, 255)\;">. Set up is not permitted before 3:00 p.m.&nbsp\;</span><span style="font-family: &quot\;PT Sans Regular&quot\;\, sans-serif\; font-size: 14px\; background-color: rgb(255\, 255\, 255)\;">No dogs allowed at Bluebird Park. No smoking. No display or sale of merchandise. Low-seating beach chairs are encouraged. Alcohol is permitted for guests 21 or older\, but must be accompanied by a full meal. Solicitation of any kind is not permitted at City events.</span></span>
LOCATION:Bluebird Park
UID:e.2209.71734
SEQUENCE:3
DTSTAMP:20260425T171010Z
URL:https://www.lagunabeachchamber.org/events/details/music-in-the-park-adaawe-71734
END:VEVENT

END:VCALENDAR
