BEGIN:VCALENDAR
VERSION:2.0
PRODID:-//ChamberMaster//Event Calendar 2.0//EN
METHOD:PUBLISH
X-PUBLISHED-TTL:P3D
REFRESH-INTERVAL:P3D
CALSCALE:GREGORIAN
BEGIN:VEVENT
DTSTART:20251120T013000Z
DTEND:20251120T033000Z
X-MICROSOFT-CDO-ALLDAYEVENT:FALSE
SUMMARY:Meet & Greet: Las Brisas
DESCRIPTION:Laguna Beach Chamber of Commerce \n\nMeet & Greet\n\n \n\nYou're invited to a special meet and greet event at Las Brisas. This is a fantastic opportunity to connect with both our new and existing members while enjoying delicious complimentary appetizers.\n\n\n\n\n\nRSVP is required.\n\nClick on Register    to Purchase Tickets.\n\nTickets are available for purchase until they sell out.\n\n\n\nChamber Members $10\n\nProspective Members $20\n\n\n\n \n\nBy attending this event\, you hereby consent to have your photo/likeness/recordings posted publicly in advertising and on social media by the Laguna Beach Chamber of Commerce and its partners.\n\n \n\nQuestions? Please reach out to us at info@lagunabeachchamber.org or 949-494-1018
X-ALT-DESC;FMTTYPE=text/html:<p dir="ltr" style="line-height: 1.38\; text-align: center\; margin-top: 0pt\; margin-bottom: 0pt\;">&nbsp\;<span style="font-family:arial\;">&nbsp\;</span><span style="font-size:24px\;"><span style="font-size:28px\;">&nbsp\;&nbsp\;</span><span style="color: rgb(34\, 34\, 34)\; background-color: transparent\; font-weight: 700\; font-variant-numeric: normal\; font-variant-east-asian: normal\; vertical-align: baseline\; white-space: pre-wrap\;"><span style="font-size:28px\;">Laguna Beach Chamber of Commerce&nbsp\;<br />\nMeet &amp\; Greet</span></span></span><br />\n&nbsp\;</p>\n\n<p dir="ltr" style="line-height: 1.38\; text-align: center\; margin-top: 0pt\; margin-bottom: 0pt\;"><span style="font-size: 24px\;">You&#39\;re invited to a special meet and greet event at </span><a href="https://www.lasbrisaslagunabeach.com/" style="font-size: 24px\;"><span style="color:#0000FF\;">Las Brisas</span></a>. <span style="font-size: 24px\;">This is a fantastic opportunity to connect with both our new and&nbsp\;existing members while enjoying delicious complimentary appetizers.</span></p>\n\n<p dir="ltr" style="line-height: 1.38\; text-align: center\; margin-top: 0pt\; margin-bottom: 0pt\;"><br />\n<br />\n<span style="font-size:20px\;"><span background-color:="" font-size:="" style="color: rgb(51\, 51\, 51)\; font-family: sans-serif\, Arial\, Verdana\, " text-align:="" trebuchet=""><span style="font-family: arial\;">RSVP is required.</span></span><br background-color:="" font-size:="" style="color: rgb(51\, 51\, 51)\; font-family: sans-serif\, Arial\, Verdana\, " text-align:="" trebuchet="" />\n<span background-color:="" font-size:="" style="color: rgb(51\, 51\, 51)\; font-family: sans-serif\, Arial\, Verdana\, " text-align:="" trebuchet=""><span style="color: rgb(12\, 12\, 12)\; font-family: arial\;">Click on&nbsp\;</span><strong style="color: rgb(12\, 12\, 12)\; font-family: arial\; font-size: 18px\;">Register &gt\;&gt\;</strong><span style="color: rgb(12\, 12\, 12)\; font-family: arial\;">&nbsp\;to Purchase Tickets.<br />\nTickets are available for purchase until they sell out.</span></span></span><br background-color:="" font-size:="" style="color: rgb(51\, 51\, 51)\; font-family: sans-serif\, Arial\, Verdana\, " text-align:="" trebuchet="" />\n<br background-color:="" font-size:="" style="color: rgb(51\, 51\, 51)\; font-family: sans-serif\, Arial\, Verdana\, " text-align:="" trebuchet="" />\n<span background-color:="" font-size:="" style="color: rgb(51\, 51\, 51)\; font-family: sans-serif\, Arial\, Verdana\, " text-align:="" trebuchet=""><span style="font-family: arial\;"><span style="font-size:20px\;">Chamber Members <b>$10</b><br />\nProspective Members <strong>$20</strong></span></span></span><br />\n<br />\n&nbsp\;</p>\n\n<p dir="ltr" style="line-height: 1.38\; margin-top: 0pt\; margin-bottom: 0pt\;"><span style="font-size:16px\;"><span style="font-family:arial\;">By attending this event\, you hereby consent to have your photo/likeness/recordings posted publicly in advertising and on social media by the Laguna Beach Chamber of Commerce and its partners.<br />\n&nbsp\;<br />\n<span style="color:red\;">Questions? Please reach out to us at <a href="mailto:info@lagunabeachchamber.org">info@lagunabeachchamber.org</a> or 949-494-1018</span></span></span><br />\n&nbsp\;</p>\n\n<div>&nbsp\;</div>\n
LOCATION:Las Brisas
UID:e.2209.72749
SEQUENCE:3
DTSTAMP:20260422T025816Z
URL:https://www.lagunabeachchamber.org/events/details/meet-greet-las-brisas-72749
END:VEVENT

END:VCALENDAR
