BEGIN:VCALENDAR
VERSION:2.0
PRODID:-//ChamberMaster//Event Calendar 2.0//EN
METHOD:PUBLISH
X-PUBLISHED-TTL:P3D
REFRESH-INTERVAL:P3D
CALSCALE:GREGORIAN
BEGIN:VEVENT
DTSTART:20231008T160000Z
DTEND:20231008T180000Z
X-MICROSOFT-CDO-ALLDAYEVENT:FALSE
SUMMARY:LPAPA Quick Draw Painting Competition
DESCRIPTION:On Sunday\, October 8\, 2023\, all 35 Laguna Plein Air Invitational Artists will gather for a 2-hour Quick Draw Painting Competition (9AM -11AM) throughout Heisler Park in Laguna Beach.  The public is invited to join us to witness the creation of plein air masterpieces  from start to finish in 2 hours!  while enjoying a Sunday walk through the park!  Our on the ground LPAPA reporter will be live-streaming the Quick Draw paint out on Facebook and Instagram as the artists paint during the 2-hour competition! \n\nAt the end of the 2-hour painting competition\, the Artists will take their wet paintings to the Laguna Festival of Arts for framing and preparation for the Quick Draw Quick Sale Silent Auction (1:30-2:30PM). Join us for a Meet & Greet with the artists (1-1:30PM)\, or purchase a ticket for private Lunch with the Artists at noon (and/or Sponsor an Artists Lunch)!\n\nSunday October 8th Quick Draw Schedule\n\n9AM - 11AM Quick Draw Painting Competition at Heisler Park\n\n12PM - 1PM Lunch with the Artists at Laguna Festival of Arts (Tickets: $24/Member\, $26/Non-Member)*\n\n1PM - 1:30PM Meet & Greet at Laguna Festival of Arts (free entry beginning at 1PM)\n\n1:30PM - 2:30PM Quick Draw Silent Art Auction at Laguna Festival of Arts (free entry beginning at 1PM)\n\nPlease note: the LPAPA Gallery will be closed on Sunday October 8th\n\nThis is a great opportunity to view the artwork and bid on a special painting that you watched the artist paint before your eyes  when you collect the work of Laguna Plein Air Artists\, you're not only collecting an original plein air painting\, you are also collecting the experience and memories that go along with it if you win the bid be sure to have your photo taken with the artist!
X-ALT-DESC;FMTTYPE=text/html:<p style="text-align:justify">On Sunday\, October 8\, 2023\, all 35&nbsp\;<a href="https://lpapa.org/2023-invitational-artists/" rel="noopener" style="box-sizing: border-box\; transition: all 0.1s ease-in-out 0s\; color: rgb(30\, 109\, 173)\; text-decoration: none\;" target="_blank">Laguna Plein Air Invitational Artists</a>&nbsp\;will gather for a 2-hour&nbsp\;<strong>Quick Draw Painting Competition (9AM -11AM)&nbsp\;</strong>throughout&nbsp\;<a href="https://www.visitlagunabeach.com/directory/heisler-park/" rel="noopener noreferrer" style="box-sizing: border-box\; transition: all 0.1s ease-in-out 0s\; color: rgb(30\, 109\, 173)\; text-decoration: none\;" target="_blank">Heisler Park</a>&nbsp\;in Laguna Beach. &nbsp\;The public is invited to join us to witness the creation of plein air masterpieces &nbsp\;<em>from start to finish in 2 hours!</em>&nbsp\;&nbsp\;while enjoying a Sunday walk through the park!&nbsp\; Our&nbsp\;<em>on the ground</em>&nbsp\;LPAPA reporter will be live-streaming the Quick Draw paint out on&nbsp\;<a href="https://www.facebook.com/LagunaPleinAir" rel="noopener" style="box-sizing: border-box\; transition: all 0.1s ease-in-out 0s\; color: rgb(30\, 109\, 173)\; text-decoration: none\;" target="_blank"><strong>Facebook</strong></a>&nbsp\;and&nbsp\;<strong><a href="https://www.instagram.com/lpapamembers/" rel="noopener" style="box-sizing: border-box\; transition: all 0.1s ease-in-out 0s\; color: rgb(30\, 109\, 173)\; text-decoration: none\;" target="_blank">Instagram</a></strong>&nbsp\;as the artists paint during the 2-hour competition!&nbsp\;</p>\n\n<p>At the end of the 2-hour painting competition\, the Artists will take their wet paintings to the&nbsp\;<a href="https://www.google.com/maps/place/Festival+of+Arts+of+Laguna+Beach/@33.5477208\,-117.7846504\,17z/data=!3m1!4b1!4m5!3m4!1s0x80dce5cb6bf3e04f:0x70626cd424771d53!8m2!3d33.5477163!4d-117.7824617" rel="noopener noreferrer" style="box-sizing: border-box\; transition: all 0.1s ease-in-out 0s\; color: rgb(30\, 109\, 173)\; text-decoration: none\;" target="_blank">Laguna Festival of Arts</a>&nbsp\;for framing and preparation for the Quick Draw Quick Sale Silent Auction (1:30-2:30PM). Join us for a Meet &amp\; Greet with the artists (1-1:30PM)\, or purchase a ticket for private Lunch with the Artists at noon&nbsp\;<em>(and/or Sponsor an Artists Lunch)</em>!</p>\n\n<p style="text-align:center"><u><strong>Sunday October 8th Quick Draw Schedule</strong></u><br />\n<strong>9AM - 11AM</strong>&nbsp\;Quick Draw Painting Competition at&nbsp\;<a href="https://www.google.com/maps/place/Heisler+Park/@33.5434056\,-117.7923055\,17z/data=!3m1!4b1!4m5!3m4!1s0x80dce436761e2d83:0x150366a202bc8c8d!8m2!3d33.5434011!4d-117.7901115?hl=en-US" rel="noopener" style="box-sizing: border-box\; transition: all 0.1s ease-in-out 0s\; color: rgb(30\, 109\, 173)\; text-decoration: none\;" target="_blank">Heisler Park</a><br />\n<strong>12PM -&nbsp\;1PM&nbsp\;</strong>Lunch with the Artists at&nbsp\;<a href="https://www.google.com/maps/place/Festival+of+Arts+of+Laguna+Beach/@33.5477208\,-117.7846504\,17z/data=!3m1!4b1!4m5!3m4!1s0x80dce5cb6bf3e04f:0x70626cd424771d53!8m2!3d33.5477163!4d-117.7824617" rel="noopener noreferrer" style="box-sizing: border-box\; transition: all 0.1s ease-in-out 0s\; color: rgb(30\, 109\, 173)\; text-decoration: none\;" target="_blank">Laguna Festival of Arts</a><em>&nbsp\;(Tickets: $24/Member\, $26/Non-Member)<strong>*</strong></em><br />\n<strong>1PM -&nbsp\;1:30PM</strong>&nbsp\;Meet &amp\; Greet at&nbsp\;<a href="https://www.google.com/maps/place/Festival+of+Arts+of+Laguna+Beach/@33.5477208\,-117.7846504\,17z/data=!3m1!4b1!4m5!3m4!1s0x80dce5cb6bf3e04f:0x70626cd424771d53!8m2!3d33.5477163!4d-117.7824617" rel="noopener noreferrer" style="box-sizing: border-box\; transition: all 0.1s ease-in-out 0s\; color: rgb(30\, 109\, 173)\; text-decoration: none\;" target="_blank">Laguna Festival of Arts</a>&nbsp\;<em>(free entry beginning at 1PM)</em><br />\n<strong>1:30PM -&nbsp\;2:30PM&nbsp\;</strong>Quick Draw Silent Art Auction at&nbsp\;<a href="https://www.google.com/maps/place/Festival+of+Arts+of+Laguna+Beach/@33.5477208\,-117.7846504\,17z/data=!3m1!4b1!4m5!3m4!1s0x80dce5cb6bf3e04f:0x70626cd424771d53!8m2!3d33.5477163!4d-117.7824617" rel="noopener noreferrer" style="box-sizing: border-box\; transition: all 0.1s ease-in-out 0s\; color: rgb(30\, 109\, 173)\; text-decoration: none\;" target="_blank">Laguna Festival of Arts</a>&nbsp\;<em>(free entry beginning at 1PM)<br />\n<strong>Please note</strong>: the LPAPA Gallery will be closed on Sunday October 8th</em></p>\n\n<p style="text-align:justify">This is a great opportunity to view the artwork and bid on a special painting that you watched the artist paint before your eyes &nbsp\;when you collect the work of Laguna Plein Air Artists\, you&#39\;re not only collecting an original plein air painting\, you are also collecting the experience and memories that go along with it&nbsp\;<em>if you win the bid be sure to have your photo taken with the artist!</em></p>\n
LOCATION:Heisler Park Laguna Beach
UID:e.2209.71913
SEQUENCE:3
DTSTAMP:20260420T142402Z
URL:https://www.lagunabeachchamber.org/events/details/lpapa-quick-draw-painting-competition-71913
END:VEVENT

END:VCALENDAR
