BEGIN:VCALENDAR
VERSION:2.0
PRODID:-//ChamberMaster//Event Calendar 2.0//EN
METHOD:PUBLISH
X-PUBLISHED-TTL:P3D
REFRESH-INTERVAL:P3D
CALSCALE:GREGORIAN
BEGIN:VEVENT
DTSTART:20241103T010000Z
DTEND:20241103T040000Z
X-MICROSOFT-CDO-ALLDAYEVENT:FALSE
SUMMARY:Gourmet Gatherings: MICHAEL ANTHONY | 2015 WINNER
DESCRIPTION:Known for his successful tenure at the internationally acclaimed\, one Michelin-starred Gramercy Tavern in New York City\, Chef Michael Anthony's innovative approach to seasonal American cuisine has earned him recognition locally and globally. Read more\n\nPresale: $525 per person\, includes tax and gratuity\n\nMenu coming soon.
X-ALT-DESC;FMTTYPE=text/html:<p><span style="font-size:20px">Known for his successful tenure at the internationally acclaimed\, one Michelin-starred Gramercy Tavern in New York City\, Chef Michael Anthony&#39\;s innovative approach to seasonal American cuisine has earned him recognition locally and globally.&nbsp\;<a href="https://www.waldorfastoriamonarchbeach.com/gourmetgatherings#lightbox-anthonybio" style="box-sizing: inherit\; margin: 0px\; padding: 0px\; border: 0px\; font: inherit\; vertical-align: baseline\; cursor: pointer\; transition: color 100ms ease 0s\, background-color 100ms ease 0s\, border-color 100ms ease 0s\; color: rgb(3\, 33\, 101)\;"><em>Read more</em></a></span></p>\n\n<p><span style="font-size:20px"><em>Presale: $525 per person\, includes tax and gratuity</em></span></p>\n\n<p><span style="font-size:20px"><em>Menu coming soon.&nbsp\;</em></span></p>\n
LOCATION:Waldorf Astoria Monarch Beach
UID:e.2209.72079
SEQUENCE:3
DTSTAMP:20260424T125156Z
URL:https://www.lagunabeachchamber.org/events/details/gourmet-gatherings-michael-anthony-2015-winner-72079
END:VEVENT

END:VCALENDAR
