BEGIN:VCALENDAR
VERSION:2.0
PRODID:-//ChamberMaster//Event Calendar 2.0//EN
METHOD:PUBLISH
X-PUBLISHED-TTL:P3D
REFRESH-INTERVAL:P3D
CALSCALE:GREGORIAN
BEGIN:VEVENT
DTSTART:20251105T170000Z
DTEND:20251105T180000Z
X-MICROSOFT-CDO-ALLDAYEVENT:FALSE
SUMMARY:Coffee Connections at Pearl St Coffee
DESCRIPTION:Join the Laguna Beach Chamber of Commerce for a coffee networking event. Connect with local business owners while enjoying a cup of joe. Don't miss out on this opportunity to build relationships and support our community!\n\n\n\nCome support Pearl St Coffee :)\nRSVP is encouraged\n\nClick on Register    RSVP\n\n\n\n \n\nBy attending this event\, you hereby consent to have your photo/likeness/recordings posted publicly in advertising and on social media by the Laguna Beach Chamber of Commerce and its partners.\n\n \n\nQuestions? Please reach out to us at info@lagunabeachchamber.org or 949-494-1018
X-ALT-DESC;FMTTYPE=text/html:<br />\n<br />\n<span style="font-family:arial\;"><span style="font-size:24px\;">Join the Laguna Beach Chamber of Commerce for a coffee networking event. Connect with local business owners while enjoying a cup of joe. Don&#39\;t miss out on this opportunity to build relationships and support our community!<br />\n<br />\nCome support Pearl St Coffee :)</span></span>\n<div style="text-align: center\;"><span background-color:="" font-size:="" style="box-sizing: border-box\; color: rgb(51\, 51\, 51)\; font-family: Belleza\, sans-serif\; font-size: 20px\; letter-spacing: 1px\; text-align: center\; background-color: rgb(255\, 255\, 255)\;" text-align:="" trebuchet=""><span style="box-sizing: border-box\; font-family: arial\;">RSVP is encouraged</span></span><br background-color:="" font-size:="" style="box-sizing: border-box\; color: rgb(51\, 51\, 51)\; font-family: Belleza\, sans-serif\; font-size: 20px\; letter-spacing: 1px\; text-align: center\; background-color: rgb(255\, 255\, 255)\;" text-align:="" trebuchet="" />\n<span background-color:="" font-size:="" style="box-sizing: border-box\; color: rgb(51\, 51\, 51)\; font-family: Belleza\, sans-serif\; font-size: 20px\; letter-spacing: 1px\; text-align: center\; background-color: rgb(255\, 255\, 255)\;" text-align:="" trebuchet=""><span style="box-sizing: border-box\; color: rgb(12\, 12\, 12)\; font-family: arial\;">Click on&nbsp\;</span><span style="box-sizing: border-box\; font-weight: bolder\; color: rgb(12\, 12\, 12)\; font-family: arial\; font-size: 18px\;">Register &gt\;&gt\;</span><span style="box-sizing: border-box\; color: rgb(12\, 12\, 12)\; font-family: arial\;">&nbsp\;RSVP</span></span><br style="box-sizing: border-box\;" />\n<br />\n&nbsp\;</div>\n\n<div><span style="color: rgb(51\, 51\, 51)\; font-family: arial\; font-size: 16px\; letter-spacing: 1px\; background-color: rgb(255\, 255\, 255)\;">By attending this event\, you hereby consent to have your photo/likeness/recordings posted publicly in advertising and on social media by the Laguna Beach Chamber of Commerce and its partners.</span><br style="box-sizing: border-box\; color: rgb(51\, 51\, 51)\; font-family: arial\; font-size: 16px\; letter-spacing: 1px\; background-color: rgb(255\, 255\, 255)\;" />\n<span style="color: rgb(51\, 51\, 51)\; font-family: arial\; font-size: 16px\; letter-spacing: 1px\; background-color: rgb(255\, 255\, 255)\;">&nbsp\;</span><br style="box-sizing: border-box\; color: rgb(51\, 51\, 51)\; font-family: arial\; font-size: 16px\; letter-spacing: 1px\; background-color: rgb(255\, 255\, 255)\;" />\n<span style="box-sizing: border-box\; font-family: arial\; font-size: 16px\; letter-spacing: 1px\; background-color: rgb(255\, 255\, 255)\; color: red\;">Questions? Please reach out to us at&nbsp\;<a href="mailto:info@lagunabeachchamber.org" style="box-sizing: border-box\; background-color: transparent\; color: rgb(0\, 105\, 153)\; text-decoration-line: none\; overflow-wrap: break-word\;">info@lagunabeachchamber.org</a>&nbsp\;or 949-494-1018</span></div>\n
LOCATION:Pearl St Coffee
UID:e.2209.72750
SEQUENCE:3
DTSTAMP:20260422T030135Z
URL:https://www.lagunabeachchamber.org/events/details/coffee-connections-at-pearl-st-coffee-72750
END:VEVENT

END:VCALENDAR
