BEGIN:VCALENDAR
VERSION:2.0
PRODID:-//ChamberMaster//Event Calendar 2.0//EN
METHOD:PUBLISH
X-PUBLISHED-TTL:P3D
REFRESH-INTERVAL:P3D
CALSCALE:GREGORIAN
BEGIN:VEVENT
DTSTART:20251017T000000Z
DTEND:20251017T041500Z
X-MICROSOFT-CDO-ALLDAYEVENT:FALSE
SUMMARY:Chamber Night at the Ducks 2025-2026
DESCRIPTION:Be part of an exciting evening! Join the Laguna Beach Chamber of Commerce and 10 + other chambers for an unforgettable Chamber Night at the Ducks! Don't miss this opportunity to connect and celebrate with fellow professionals!\n\n\n\nLocation: Brewery X Biergarten Patio\, 2695 East Katella Ave\, Anaheim\, CA\, 92806\n\nCheck-In: Starting at 5 PM at Brewery X Biergarten Patio near the Southeast Fire Pit.\n\nNetworking: 5 PM - 6:30 PM\n\nPuck Drop: 7:00 PM\n\n\n\nTicket Includes - 1 Club Level Ticket\, General admission parking\, 1 Drink Ticket\, Access to pre-game Chamber Networking\, and complimentary light bites during networking.\nGET YOUR TICKETS HERE!
X-ALT-DESC;FMTTYPE=text/html:<br />\n<span style="font-size:22px\;">Be part of an exciting evening! Join the Laguna Beach Chamber of Commerce and 10 + other chambers for an unforgettable Chamber Night at the Ducks! Don&#39\;t miss this opportunity to connect and celebrate with fellow professionals!</span><br />\n<br />\n<span style="font-size:22px\;"><strong>Location:</strong> Brewery X Biergarten Patio\, 2695 East Katella Ave\, Anaheim\, CA\, 92806<br />\n<strong>Check-In:</strong> Starting at 5 PM at Brewery X Biergarten Patio near the Southeast Fire Pit.<br />\n<strong>Networking:</strong>&nbsp\;5 PM - 6:30 PM<br />\n<strong>Puck Drop:</strong> 7:00 PM<br />\n<br />\n<strong>Ticket Includes</strong> - 1 Club Level Ticket\, General admission parking\, 1 Drink Ticket\, Access to pre-game Chamber Networking\, and complimentary light bites during networking.</span>\n<div style="text-align: center\;"><span style="font-size:22px\;"><span style="font-size:26px\;"><a href="https://ducks.spinzo.com/ducks-vs-carolina-hurricanes-2025-10-16-AXEVS?group=chamber-night-25kc&amp\;affiliate=laguna-beach-6f5u"><span style="color:#0000FF\;"><b>GET YOUR TICKETS HERE!</b></span></a></span></span></div>\n
LOCATION:
UID:e.2209.72744
SEQUENCE:3
DTSTAMP:20260423T014329Z
URL:https://www.lagunabeachchamber.org/events/details/chamber-night-at-the-ducks-2025-2026-72744
END:VEVENT

END:VCALENDAR
