BEGIN:VCALENDAR
VERSION:2.0
PRODID:-//ChamberMaster//Event Calendar 2.0//EN
METHOD:PUBLISH
X-PUBLISHED-TTL:P3D
REFRESH-INTERVAL:P3D
CALSCALE:GREGORIAN
BEGIN:VEVENT
DTSTART:20250717T003000Z
DTEND:20250717T023000Z
X-MICROSOFT-CDO-ALLDAYEVENT:FALSE
SUMMARY:Chamber Night at Laguna Art-A-Fair
DESCRIPTION:Join Aliso Viejo\, Dana Point\, and Laguna Beach Chamber of Commerce on Wednesday\, July 16th\, 5:30 - 7:30 pm\, for Laguna Art-A-Fair for Chamber Night! \n\n\n\nEnjoy a night out with a special happy hour menu\, raffle items\, scavenger hunt\, networking\, live music\, and art!\n\n \n\nMembers\, future members\, and guests can pay the $8 Art-A-Fair admission fee online or at the door.\n\n\n\nConsider one of these options when parking: \n\n\n	Lot 10 - This paid parking lot is located just before Art-A-Fair. \n	Valet Parking \n	Public street parking along Laguna Canyon Rd. \n	Free Trolley Service \n\n\nGet Your Tickets Here
X-ALT-DESC;FMTTYPE=text/html:<p><span style="font-size:20px\;"><span style="font-family:arial\;"><span style="color:#000000\;">Join Aliso Viejo\,&nbsp\;<span background-color:="" trebuchet="">Dana Point\, and Laguna Beach Chamber of Commerce&nbsp\;</span><span background-color:="" font-size:="" trebuchet="">on Wednesday\, July 16th\, 5:30 - 7:30 pm\, for</span>&nbsp\;Laguna Art-A-Fair for&nbsp\;<span background-color:="" trebuchet="">Chamber Night!&nbsp\;</span><br />\n<br />\nEnjoy a night out with a special happy hour menu\, raffle items\, scavenger hunt\,&nbsp\;networking\, live music\, and art!</span></span></span><br />\n&nbsp\;</p>\n\n<p style="box-sizing: border-box\; margin: 0px 0px 1rem\; hyphens: none\; font-size: 16px\; outline: 0px\; color: rgb(86\, 86\, 86)\; font-family: Arimo\, sans-serif\; background-color: rgb(255\, 255\, 255)\;"><span style="font-size:20px\;"><span style="font-family:arial\;"><font color="#000000" style="box-sizing: border-box\;"><span style="box-sizing: border-box\;">Members\, future members\, and guests can pay the $8 Art-A-Fair admission fee online or at the door.<br />\n<br style="box-sizing: border-box\;" />\nConsider one of these options when parking:&nbsp\;</span></font></span></span></p>\n\n<ul>\n	<li style="box-sizing: border-box\; font-size: 15px\; margin: 0px\;"><span style="font-size:20px\;"><span style="font-family:arial\;"><font color="#000000" style="box-sizing: border-box\;"><span style="box-sizing: border-box\;">Lot 10 - This paid parking lot is located just before Art-A-Fair.&nbsp\;</span></font></span></span></li>\n	<li style="box-sizing: border-box\; font-size: 15px\; margin: 0px\;"><span style="font-size:20px\;"><span style="font-family:arial\;"><font color="#000000" style="box-sizing: border-box\;"><span style="box-sizing: border-box\;">Valet Parking&nbsp\;</span></font></span></span></li>\n	<li style="box-sizing: border-box\; font-size: 15px\; margin: 0px\;"><span style="font-size:20px\;"><span style="font-family:arial\;"><font color="#000000" style="box-sizing: border-box\;"><span style="box-sizing: border-box\;">Public street parking along Laguna Canyon Rd.&nbsp\;</span></font></span></span></li>\n	<li style="box-sizing: border-box\; font-size: 15px\; margin: 0px\;"><span style="font-size:20px\;"><span style="font-family:arial\;"><font color="#000000" style="box-sizing: border-box\;"><span style="box-sizing: border-box\;">Free Trolley Service&nbsp\;</span></font></span></span></li>\n</ul>\n\n<p style="text-align: center\;"><font face="arial"><span style="font-size: 20px\;"><b style=""><font color="#000000">Get Your Tickets </font><a href="https://www.art-a-fair.com/tickets"><font color="#0000ff">Here</font></a></b></span></font></p>\n
LOCATION:Laguna Art A Fair
UID:e.2209.72682
SEQUENCE:3
DTSTAMP:20260423T222521Z
URL:https://www.lagunabeachchamber.org/events/details/chamber-night-at-laguna-art-a-fair-07-16-2025-72682
END:VEVENT

END:VCALENDAR
