BEGIN:VCALENDAR
VERSION:2.0
PRODID:-//ChamberMaster//Event Calendar 2.0//EN
METHOD:PUBLISH
X-PUBLISHED-TTL:P3D
REFRESH-INTERVAL:P3D
CALSCALE:GREGORIAN
BEGIN:VEVENT
DTSTART:20220916T010000Z
DTEND:20220916T030000Z
X-MICROSOFT-CDO-ALLDAYEVENT:FALSE
SUMMARY:Candidate Forum at City Hall
DESCRIPTION:The Laguna Beach Chamber of Commerce in association with the Laguna Board of REALTORS  and KXFM Radio presented an important opportunity to meet the candidates live at city council chambers.\n\n\n\n \n\nZoom Recording Here\n\n \n\nPasscode: 9!3defJQ\n\n \nOR\n\nListen Here
X-ALT-DESC;FMTTYPE=text/html:<div class="xmsonormal"><span style="font-size:28px\;">The Laguna Beach Chamber of Commerce in association with the Laguna Board of REALTORS&reg\; and KXFM Radio presented an important opportunity to meet the candidates live at city council chambers.</span><br />\n<br />\n&nbsp\;</div>\n\n<div style="text-align: center\;"><u><a href="https://carorg.zoom.us/rec/share/iTHr2WAWHYU6iozMVj7K86EDx1s5pYsVt9CohXFzy6zVAEXDGboJsYWh6BuzHO7b.sUUV6qehaIC3YYiw?startTime=1663288344000"><span style="color:#0000FF\;"><span style="font-size:28px\;">Zoom Recording Here</span></span></a></u>\n\n<div class="xmsonormal">&nbsp\;</div>\n\n<div class="xmsonormal"><span style="font-size:28px\;">Passcode: 9!3defJQ</span><br />\n&nbsp\;</div>\n<span style="font-size:28px\;">OR<br />\n<u><a href="https://www.kxfmradio.org/podcasts/city-council-candidate-forum-9-15-22/"><span style="color:#0000FF\;">Listen Here</span></a></u></span><br />\n&nbsp\;</div>\n
LOCATION:Zoom Recording https://carorg.zoom.us/rec/share/iTHr2WAWHYU6iozMVj7K86EDx1s5pYsVt9CohXFzy6zVAEXDGboJsYWh6BuzHO7b.sUUV6qehaIC3YYiw?startTime=1663288344000 Passcode: 9!3defJQ
UID:e.2209.70836
SEQUENCE:3
DTSTAMP:20260420T105601Z
URL:https://www.lagunabeachchamber.org/events/details/candidate-forum-at-city-hall-70836
END:VEVENT

END:VCALENDAR
