BEGIN:VCALENDAR
VERSION:2.0
PRODID:-//ChamberMaster//Event Calendar 2.0//EN
METHOD:PUBLISH
X-PUBLISHED-TTL:P3D
REFRESH-INTERVAL:P3D
CALSCALE:GREGORIAN
BEGIN:VEVENT
DTSTART:20230713T163000Z
DTEND:20230713T170000Z
X-MICROSOFT-CDO-ALLDAYEVENT:FALSE
SUMMARY:Boys & Girls Club of Laguna Beach Skate Ramp Ribbon Cutting
DESCRIPTION:You are invited to join the Boys & Girls Club of Laguna Beach as we celebrate our new skate ramps\, generously donated by the Jaffe Family Foundation. The Ribbon Cutting will take place on Thursday\, July 13th at 9:30AM. Please plan to arrive at 9:00AM due to limited street parking. Parking will be available along Laguna Canyon Frontage Road\, directly across from our facilities (1085 Laguna Canyon Road) and the Sawdust Festival for $3 an hour. Our celebration will conclude by 10:00AM\, the start time of our summer skate camp.
X-ALT-DESC;FMTTYPE=text/html:<br />\n<em>You are invited to join the Boys &amp\; Girls Club of Laguna Beach as we celebrate our new skate ramps\, generously donated by the Jaffe Family Foundation. The Ribbon Cutting will take place on Thursday\, July 13<sup>th</sup> at 9:30AM. Please plan to arrive at 9:00AM due to limited street parking. Parking will be available along Laguna Canyon Frontage Road\, directly across from our facilities (1085 Laguna Canyon Road) and the Sawdust Festival for $3 an hour. Our celebration will conclude by 10:00AM\, the start time of our summer skate camp.</em>
LOCATION:1085 Laguna Canyon Road\, Laguna Beach 92651
UID:e.2209.71739
SEQUENCE:3
DTSTAMP:20260425T171534Z
URL:https://www.lagunabeachchamber.org/events/details/boys-girls-club-of-laguna-beach-skate-ramp-ribbon-cutting-71739
END:VEVENT

END:VCALENDAR
