BEGIN:VCALENDAR
VERSION:2.0
PRODID:-//ChamberMaster//Event Calendar 2.0//EN
METHOD:PUBLISH
X-PUBLISHED-TTL:P3D
REFRESH-INTERVAL:P3D
CALSCALE:GREGORIAN
BEGIN:VEVENT
DTSTART:20251121T010000Z
DTEND:20251121T040000Z
X-MICROSOFT-CDO-ALLDAYEVENT:FALSE
SUMMARY:Ballesteros Ribbon Cutting
DESCRIPTION:Ballesteros Real Estate Group Celebrates Grand Opening with a Ribbon-Cutting Ceremony in Partnership with Laguna Beach Chamber of Commerce\n\n\n\nLaguna Beach\, CA   Ballesteros Real Estate Group\, a premier residential real estate team affiliated with Coldwell Banker Realty\, is thrilled to announce its grand opening celebration with a ribbon-cutting ceremony on Thursday\, November 20th\, from 5:00 pm - 8:00 pm. The event will take place at 344 Third St.\, Laguna Beach\, CA 92651.\n\n\n\nJoin us as we celebrate this exciting milestone in our community. The ribbon cutting will be officiated by the Laguna Beach Chamber of Commerce\, along with local dignitaries\, honored guests\, and members of the community.\n\n\n\n"We are excited to open our doors to the Laguna Beach community\," said J.J. Ballesteros\, Co-Founder and Realtor\, of Ballesteros Real Estate Group. "We believe in the power of local businesses to strengthen the community and provide unique offerings to residents and visitors alike. We're looking forward to being a part of this vibrant area."\n\n\n\nThe celebration will include the unveiling of a new community mural\, Sun at the Tower\, created in collaboration with the Laguna College of Art and Design (LCAD). Guests can enjoy light refreshments\, music\, and more\, as well as connect with local business leaders and residents. The mural\, featuring the iconic Laguna Beach Lifeguard Tower and Pacific horizon\, symbolizes the spirit\, warmth\, and creativity of Laguna Beach.\n\n\n\nCommunity members are invited to visit and learn more about Ballesteros Real Estate Group's personalized real estate services\, designed to help clients buy and sell homes with expert guidance and a community-first approach.\n\n \nEvent Details\n What: Ribbon Cutting Ceremony for Ballesteros Real Estate Group\n\nWhen: Thursday\, November 20th\, from 5:00 pm - 8:00 pm\n\nWhere: 344 Third St.\, Laguna Beach\, CA 92651\n\nRSVP: Visit our event page at https://ballesterosgroup.com/launchpartyrsvp to RSVP.\n\nFor more information about Ballesteros Real Estate Group\, please visit https://ballesterosgroup.com.\n\nWe look forward to celebrating with our community!\n\n \nAbout Ballesteros Real Estate Group\n Ballesteros Real Estate Group\, led by J.J. and Andrea Ballesteros\, is a top-producing real estate team with Coldwell Banker Realty\, serving the Laguna Beach and Orange County area. With a deep passion for community and a commitment to excellence\, the team helps clients achieve their real estate goals through personalized service\, local expertise\, and authentic connection. Their new downtown Laguna Beach office serves as both a hub for real estate excellence and a gathering space celebrating the creativity and spirit of the local community.
X-ALT-DESC;FMTTYPE=text/html:<span style="font-family:arial\;"><span style="color:#000000\;"><strong>Ballesteros Real Estate Group Celebrates Grand Opening with a Ribbon-Cutting Ceremony in Partnership with Laguna Beach Chamber of Commerce</strong><br />\n<br />\n<strong>Laguna Beach\, CA</strong>&nbsp\;&mdash\;&nbsp\;<em>Ballesteros Real Estate Group</em>\, a premier residential real estate team affiliated with Coldwell Banker Realty\, is thrilled to announce its grand opening celebration with a ribbon-cutting ceremony on&nbsp\;<strong>Thursday\, November 20th\, from 5:00 pm - 8:00 pm</strong>. The event will take place at&nbsp\;<strong>344 Third St.\, Laguna Beach\, CA 92651</strong>.<br />\n<br />\nJoin us as we celebrate this exciting milestone in our community. The ribbon cutting will be officiated by the&nbsp\;<strong>Laguna Beach Chamber of Commerce</strong>\, along with local dignitaries\, honored guests\, and members of the community.<br />\n<br />\n&ldquo\;We are excited to open our doors to the Laguna Beach community\,&rdquo\; said&nbsp\;<strong>J.J. Ballesteros</strong>\,&nbsp\;<strong>Co-Founder and Realtor</strong>\, of&nbsp\;<strong>Ballesteros Real Estate Group</strong>. &ldquo\;We believe in the power of local businesses to strengthen the community and provide unique offerings to residents and visitors alike. We&rsquo\;re looking forward to being a part of this vibrant area.&rdquo\;<br />\n<br />\nThe celebration will include&nbsp\;<strong>the unveiling of a new community mural\,&nbsp\;</strong><em><strong>Sun at the Tower</strong></em><strong>\, created in collaboration with the Laguna College of Art and Design (LCAD)</strong>. Guests can enjoy&nbsp\;<strong>light refreshments\, music\, and more</strong>\, as well as connect with local business leaders and residents. The mural\, featuring the iconic Laguna Beach Lifeguard Tower and Pacific horizon\, symbolizes the spirit\, warmth\, and creativity of Laguna Beach.<br />\n<br />\nCommunity members are invited to visit and learn more about&nbsp\;<strong>Ballesteros Real Estate Group&rsquo\;s personalized real estate services</strong>\, designed to help clients buy and sell homes with expert guidance and a community-first approach.</span></span><br />\n&nbsp\;\n<h3><span style="font-family:arial\;"><span style="color:#000000\;"><strong>Event Details</strong></span></span></h3>\n<span style="font-family:arial\;"> <span style="color:#000000\;"><strong>What:</strong>&nbsp\;Ribbon Cutting Ceremony for Ballesteros Real Estate Group<br />\n<strong>When:</strong>&nbsp\;Thursday\, November 20th\, from 5:00 pm - 8:00 pm<br />\n<strong>Where:</strong>&nbsp\;344 Third St.\, Laguna Beach\, CA 92651<br />\n<strong>RSVP:</strong>&nbsp\;Visit our event page at</span><span style="color:#0000FF\;">&nbsp\;</span><a href="https://ballesterosgroup.com/launchpartyrsvp" target="_blank"><span style="color:#0000FF\;">https://ballesterosgroup.com/launchpartyrsvp</span></a><span style="color:#000000\;">&nbsp\;to RSVP.<br />\nFor more information about Ballesteros Real Estate Group\, please visit&nbsp\;</span><a href="https://ballesterosgroup.com/" target="_blank"><span style="color:#0000FF\;">https://ballesterosgroup.com</span></a><span style="color:#0000FF\;">.</span><br />\n<span style="color:#000000\;">We look forward to celebrating with our community!</span></span><br />\n&nbsp\;\n<h3><span style="font-family:arial\;"><span style="color:#000000\;"><strong>About Ballesteros Real Estate Group</strong></span></span></h3>\n<span style="font-family:arial\;"> <em>Ballesteros Real Estate Group</em>\, led by J.J. and Andrea Ballesteros\, is a top-producing real estate team with&nbsp\;<strong>Coldwell Banker Realty</strong>\, serving the Laguna Beach and Orange County area. With a deep passion for community and a commitment to excellence\, the team helps clients achieve their real estate goals through personalized service\, local expertise\, and authentic connection. Their new downtown Laguna Beach office serves as both a hub for real estate excellence and a gathering space celebrating the creativity and spirit of the local community.</span><br />\n&nbsp\;
LOCATION:Ballesteros Real Estate Group
UID:e.2209.72751
SEQUENCE:3
DTSTAMP:20260422T044857Z
URL:https://www.lagunabeachchamber.org/events/details/ballesteros-ribbon-cutting-72751
END:VEVENT

END:VCALENDAR
