BEGIN:VCALENDAR
VERSION:2.0
PRODID:-//ChamberMaster//Event Calendar 2.0//EN
METHOD:PUBLISH
X-PUBLISHED-TTL:P3D
REFRESH-INTERVAL:P3D
CALSCALE:GREGORIAN
BEGIN:VEVENT
DTSTART:20160411T160000Z
DTEND:20160412T010000Z
X-MICROSOFT-CDO-ALLDAYEVENT:FALSE
SUMMARY:Annual Golf Tournament 2016
DESCRIPTION:The Laguna Beach and Aliso Viejo Chambers of Commerce present our annual Golf Tournament at the lush Aliso Viejo Country Club. \n\n\n\nEnjoy 18 holes of golf\, breakfast\, snacks\, lunch\, Celebration Dinner\, music\, goodie bag\, awards\, and other surprise extras galore!  You'll have the opportunity to participate in a wine raffle\, on-course contests\, silent auction and raffle prizes!  Breakfast is sponsored by Urth Caffe\, the Bloody Mary bar is hosted by Lumberyard Restaurant\, and the delicious lunch is courtesy of Montage Resort!\n\n\n\nNon-players are welcome to attend the Celebration Dinner event at $40/per person\, payable in advance\, please.  Cocktails\, dinner\, and auction are expected to start around 4PM.\n\n\n\nSPONSORSHIP OPPORTUNITIES:\nPRESENTING SPONSOR - $5\,000\n\n\n	Title Sponsor incorporated into the name of the tournament\n	8 Golf slots in the tournament\n	VIP reserved table (16 tickets) for Celebration Dinner\n	VIP starting hole assignment\n	8 Tommy Bahama shirts\n	3 hole signs and signage at registration\n	Top-level logo exposure in all marketing collateral\, pre- and post-event\n	Opportunity to distribute branded promotional material\n	Golf cart cooler filled with special beverages \n	8 Golf certificates to play Aliso Viejo CC at a later date\n\n  EAGLE SPONSOR - $2\,500\n\n\n	4 Golf slots in the tournament\n	VIP reserved table (8 tickets) for Celebration Dinner\n	VIP starting hole assignment\n	4 Tommy Bahama shirts\n	2 hole signs and signage at registration\n	Prominent logo exposure in all marketing collateral\, pre- and post-event\n	Golf cart cooler filled with special beverages\n	4 Golf certificates to play Aliso Viejo CC at a later date\n\n  BIRDIE SPONSOR - $1\,250 \n\n\n	4 golf slots in the tournament\n	VIP reserved table (8 tickets) for Celebration Dinner\n	4 Tommy Bahama shirts\n	1 hole sign\n	Recognition at Celebration Dinner via event PowerPoint slide show\n\n  HOLE SPONSOR - $150
X-ALT-DESC;FMTTYPE=text/html:<span style="font-size:14px\;"><span style="font-family: verdana\;"><span style="color: rgb(0\, 0\, 0)\;">The Laguna Beach and Aliso Viejo Chambers of Commerce present our annual Golf Tournament at the lush Aliso Viejo Country Club.&nbsp\;<br />\n<br />\nEnjoy 18 holes of golf\, breakfast\, snacks\, lunch\, Celebration Dinner\, music\, goodie bag\, awards\, and other surprise extras galore!&nbsp\; You&#39\;ll have the opportunity to participate in a wine raffle\, on-course contests\, silent auction and raffle prizes!&nbsp\; Breakfast is sponsored by Urth Caffe\, the Bloody Mary bar is hosted by Lumberyard Restaurant\, and the delicious lunch is courtesy of Montage Resort!<br />\n<br />\nNon-players are welcome to attend the Celebration Dinner event at $40/per person\, payable in advance\, please.&nbsp\; Cocktails\, dinner\, and auction are expected to start around 4PM.</span><br />\n<br />\n<strong><span style="color: rgb(0\, 128\, 128)\;">SPONSORSHIP OPPORTUNITIES:</span></strong></span></span>\n<h1><span style="font-size:14px\;"><span style="color: rgb(0\, 102\, 153)\;"><u><strong><span style="font-family: verdana\;">PRESENTING SPONSOR - $5\,000</span></strong></u></span></span></h1>\n\n<ul>\n	<li><span style="font-size:14px\;"><span style="font-family: verdana\;">Title Sponsor incorporated into the name of the tournament</span></span></li>\n	<li><span style="font-size:14px\;"><span style="font-family: verdana\;">8 Golf slots in the tournament</span></span></li>\n	<li><span style="font-size:14px\;"><span style="font-family: verdana\;">VIP reserved table (16 tickets) for Celebration Dinner</span></span></li>\n	<li><span style="font-size:14px\;"><span style="font-family: verdana\;">VIP starting hole assignment</span></span></li>\n	<li><span style="font-size:14px\;"><span style="font-family: verdana\;">8 Tommy Bahama shirts</span></span></li>\n	<li><span style="font-size:14px\;"><span style="font-family: verdana\;">3 hole signs and signage at registration</span></span></li>\n	<li><span style="font-size:14px\;"><span style="font-family: verdana\;">Top-level logo exposure in all marketing collateral\, pre- and post-event</span></span></li>\n	<li><span style="font-size:14px\;"><span style="font-family: verdana\;">Opportunity to distribute branded promotional material</span></span></li>\n	<li><span style="font-size:14px\;"><span style="font-family: verdana\;">Golf cart cooler filled with special beverages </span></span></li>\n	<li><span style="font-size:14px\;"><span style="font-family: verdana\;">8 Golf certificates to play Aliso Viejo CC at a later date</span></span></li>\n</ul>\n<span style="font-size:14px\;"> <span style="font-family: verdana\;">&nbsp\;</span><span style="color: rgb(0\, 102\, 153)\;"><u><strong><span style="font-family: verdana\;">EAGLE SPONSOR - $2\,500</span></strong></u></span></span>\n\n<ul>\n	<li><span style="font-size:14px\;"><span style="font-family: verdana\;">4 Golf slots in the tournament</span></span></li>\n	<li><span style="font-size:14px\;"><span style="font-family: verdana\;">VIP reserved table (8 tickets) for Celebration Dinner</span></span></li>\n	<li><span style="font-size:14px\;"><span style="font-family: verdana\;">VIP starting hole assignment</span></span></li>\n	<li><span style="font-size:14px\;"><span style="font-family: verdana\;">4 Tommy Bahama shirts</span></span></li>\n	<li><span style="font-size:14px\;"><span style="font-family: verdana\;">2 hole signs and signage at registration</span></span></li>\n	<li><span style="font-size:14px\;"><span style="font-family: verdana\;">Prominent logo exposure in all marketing collateral\, pre- and post-event</span></span></li>\n	<li><span style="font-size:14px\;"><span style="font-family: verdana\;">Golf cart cooler filled with special beverages</span></span></li>\n	<li><span style="font-size:14px\;"><span style="font-family: verdana\;">4 Golf certificates to play Aliso Viejo CC at a later date</span></span></li>\n</ul>\n<span style="font-size:14px\;"> <span style="font-family: verdana\;">&nbsp\;</span><span style="color: rgb(0\, 102\, 153)\;"><u><strong><span style="font-family: verdana\;">BIRDIE SPONSOR - $1\,250 </span></strong></u></span></span>\n\n<ul>\n	<li><span style="font-size:14px\;"><span style="font-family: verdana\;">4 golf slots in the tournament</span></span></li>\n	<li><span style="font-size:14px\;"><span style="font-family: verdana\;">VIP reserved table (8 tickets) for Celebration Dinner</span></span></li>\n	<li><span style="font-size:14px\;"><span style="font-family: verdana\;">4 Tommy Bahama shirts</span></span></li>\n	<li><span style="font-size:14px\;"><span style="font-family: verdana\;">1 hole sign</span></span></li>\n	<li><span style="font-size:14px\;"><span style="font-family: verdana\;">Recognition at Celebration Dinner via event PowerPoint slide show</span></span></li>\n</ul>\n<span style="font-size:14px\;"> <span style="font-family: verdana\;">&nbsp\;<span style="color: rgb(0\, 102\, 153)\;"><u><strong>HOLE SPONSOR - $150 </strong></u></span></span></span><br />\n&nbsp\;
LOCATION:Aliso Viejo Country Club\, 33 Santa Barbara\, Aliso Viejo\, CA 92656
UID:e.2209.819
SEQUENCE:3
DTSTAMP:20260420T061321Z
URL:https://www.lagunabeachchamber.org/events/details/annual-golf-tournament-2016-819
END:VEVENT

END:VCALENDAR
