BEGIN:VCALENDAR
VERSION:2.0
PRODID:-//ChamberMaster//Event Calendar 2.0//EN
METHOD:PUBLISH
X-PUBLISHED-TTL:P3D
REFRESH-INTERVAL:P3D
CALSCALE:GREGORIAN
BEGIN:VEVENT
DTSTART:20251108T210000Z
DTEND:20251108T233000Z
X-MICROSOFT-CDO-ALLDAYEVENT:FALSE
SUMMARY:A Retreat for Midlife Renewal: A Nervous System Healing Immersion
DESCRIPTION:REGISTER HERE: https://www.soulmovementyoga.com/reserve/#/course/buy/11992/r/77/loc/81\n\n\n\n\n\nA Retreat for Midlife Renewal: Reclaim your energy\, joy + vitality through nervous system healing at Soul Movement Yoga!\n\n\n\nIs stress\, overthinking\, overwhelm\, or stubborn weight defining your days?\n\nWhen the nervous system is dysregulated\, the body simply cannot heal. Anxiety\, restless nights\, cravings\, or mood swings might leave you feeling disconnected from yourself. Regulation shapes how we sleep\, connect\, digest\, metabolize energy\, live\, and love! This is your moment to step into a new way of being.\n\n\n\nWhat you'll experience:\n\n	Step beyond "fight or flight" into deeper nervous system layers\n	Learn why body safety not another diet unlocks true healing!\n	How science + functional & ancient medicine can break you free from feeling stuck\n	See how nervous system health shapes sleep\, mood\, anxiousness and metabolism!\n	Shift from a scarcity mindset into one of growth and abundance\n	Explore neuroscience and Polyvagal tools to retrain mindset\, stress or trauma responses\n\nThis interactive\, heart-centered workshop blends education\, epigenetics wisdom\, play\, pranayama\, visualization\, somatic practices\, community connection and inner reflection.\n\n\n\nSaturday\, November 8th at 1:00 - 3:30 pm\n\nOnly $65\n\nIncludes healthy tea/snack\, and stress-relief swag bag!\n\n\n\nMeet the Facilitator:\n\nChristine Morgenstern Shin\, C-IAYT\, FNLP\, CHHP\, NBC-HWC\n\nClinical Yoga Therapist | Functional Nutrition Practitioner | Board Certified Behavioral Coach\n\nwww.radiantheart.health\n\n\n\nChristine is an integrative health practitioner and the visionary founder of Radiant Heart - Heal from Within\, a globally recognized lifestyle and longevity practice based in Laguna Beach\, CA. With over 25 years of experience\, Christine has dedicated her career to empowering midlife go-getters to reclaim their energy\, release stress and anxiety\, and resolve stubborn mental and metabolic health challenges.\n\nHer unique approach seamlessly blends the latest advancements in neuroscience and functional nutrition with the timeless wisdom of Eastern traditions. By focusing on root-cause solutions\, Christine helps clients reset their nervous system\, brain\, gut\, and metabolism\, fostering sustainable\, transformative change. Her heart-centered guidance and educational approach empowers strivers to move from a state of overwhelm to a life filled with vitality and resilience.
X-ALT-DESC;FMTTYPE=text/html:<span style="color:rgba(0\, 0\, 0\, 0.9)\; font-family:-apple-system\,system-ui\,system-ui\,segoe ui\,roboto\,helvetica neue\,fira sans\,ubuntu\,oxygen\,oxygen sans\,cantarell\,droid sans\,apple color emoji\,segoe ui emoji\,segoe ui emoji\,segoe ui symbol\,lucida grande\,helvetica\,arial\,sans-serif\; font-size:14px">REGISTER HERE: <a href="https://www.soulmovementyoga.com/reserve/#/course/buy/11992/r/77/loc/81">https://www.soulmovementyoga.com/reserve/#/course/buy/11992/r/77/loc/81</a></span><br />\n<br />\n<br />\n<span style="color:rgba(0\, 0\, 0\, 0.9)\; font-family:-apple-system\,system-ui\,system-ui\,segoe ui\,roboto\,helvetica neue\,fira sans\,ubuntu\,oxygen\,oxygen sans\,cantarell\,droid sans\,apple color emoji\,segoe ui emoji\,segoe ui emoji\,segoe ui symbol\,lucida grande\,helvetica\,arial\,sans-serif\; font-size:14px">A Retreat for Midlife Renewal: Reclaim your energy\, joy + vitality through nervous system healing&nbsp\;</span><span style="color:rgba(0\, 0\, 0\, 0.9)\; font-family:-apple-system\,system-ui\,system-ui\,segoe ui\,roboto\,helvetica neue\,fira sans\,ubuntu\,oxygen\,oxygen sans\,cantarell\,droid sans\,apple color emoji\,segoe ui emoji\,segoe ui emoji\,segoe ui symbol\,lucida grande\,helvetica\,arial\,sans-serif\; font-size:14px">at Soul Movement Yoga!</span><br />\n<br />\n<span style="color:rgba(0\, 0\, 0\, 0.9)\; font-family:-apple-system\,system-ui\,system-ui\,segoe ui\,roboto\,helvetica neue\,fira sans\,ubuntu\,oxygen\,oxygen sans\,cantarell\,droid sans\,apple color emoji\,segoe ui emoji\,segoe ui emoji\,segoe ui symbol\,lucida grande\,helvetica\,arial\,sans-serif\; font-size:14px">Is stress\, overthinking\, overwhelm\, or stubborn weight defining your days?</span><br />\n<span style="color:rgba(0\, 0\, 0\, 0.9)\; font-family:-apple-system\,system-ui\,system-ui\,segoe ui\,roboto\,helvetica neue\,fira sans\,ubuntu\,oxygen\,oxygen sans\,cantarell\,droid sans\,apple color emoji\,segoe ui emoji\,segoe ui emoji\,segoe ui symbol\,lucida grande\,helvetica\,arial\,sans-serif\; font-size:14px">When the nervous system is dysregulated\, the body simply cannot heal. Anxiety\, restless nights\, cravings\, or mood swings might leave you feeling disconnected from yourself. Regulation shapes how we sleep\, connect\, digest\, metabolize energy\, live\, and love! This is your moment to step into a new way of being.</span><br />\n<br />\n<span style="color:rgba(0\, 0\, 0\, 0.9)\; font-family:-apple-system\,system-ui\,system-ui\,segoe ui\,roboto\,helvetica neue\,fira sans\,ubuntu\,oxygen\,oxygen sans\,cantarell\,droid sans\,apple color emoji\,segoe ui emoji\,segoe ui emoji\,segoe ui symbol\,lucida grande\,helvetica\,arial\,sans-serif\; font-size:14px">What you&rsquo\;ll experience:</span>\n<ul>\n	<li><span style="color:rgba(0\, 0\, 0\, 0.9)\; font-family:-apple-system\,system-ui\,system-ui\,segoe ui\,roboto\,helvetica neue\,fira sans\,ubuntu\,oxygen\,oxygen sans\,cantarell\,droid sans\,apple color emoji\,segoe ui emoji\,segoe ui emoji\,segoe ui symbol\,lucida grande\,helvetica\,arial\,sans-serif\; font-size:14px">Step beyond &ldquo\;fight or flight&rdquo\; into deeper nervous system layers</span></li>\n	<li><span style="color:rgba(0\, 0\, 0\, 0.9)\; font-family:-apple-system\,system-ui\,system-ui\,segoe ui\,roboto\,helvetica neue\,fira sans\,ubuntu\,oxygen\,oxygen sans\,cantarell\,droid sans\,apple color emoji\,segoe ui emoji\,segoe ui emoji\,segoe ui symbol\,lucida grande\,helvetica\,arial\,sans-serif\; font-size:14px">Learn why body safety&mdash\;not another diet&mdash\;unlocks true healing!</span></li>\n	<li><span style="color:rgba(0\, 0\, 0\, 0.9)\; font-family:-apple-system\,system-ui\,system-ui\,segoe ui\,roboto\,helvetica neue\,fira sans\,ubuntu\,oxygen\,oxygen sans\,cantarell\,droid sans\,apple color emoji\,segoe ui emoji\,segoe ui emoji\,segoe ui symbol\,lucida grande\,helvetica\,arial\,sans-serif\; font-size:14px">How science + functional &amp\; ancient medicine can break you free from feeling stuck</span></li>\n	<li><span style="color:rgba(0\, 0\, 0\, 0.9)\; font-family:-apple-system\,system-ui\,system-ui\,segoe ui\,roboto\,helvetica neue\,fira sans\,ubuntu\,oxygen\,oxygen sans\,cantarell\,droid sans\,apple color emoji\,segoe ui emoji\,segoe ui emoji\,segoe ui symbol\,lucida grande\,helvetica\,arial\,sans-serif\; font-size:14px">See how nervous system health shapes sleep\, mood\, anxiousness and metabolism!</span></li>\n	<li><span style="color:rgba(0\, 0\, 0\, 0.9)\; font-family:-apple-system\,system-ui\,system-ui\,segoe ui\,roboto\,helvetica neue\,fira sans\,ubuntu\,oxygen\,oxygen sans\,cantarell\,droid sans\,apple color emoji\,segoe ui emoji\,segoe ui emoji\,segoe ui symbol\,lucida grande\,helvetica\,arial\,sans-serif\; font-size:14px">Shift from a scarcity mindset into one of growth and abundance</span></li>\n	<li><span style="color:rgba(0\, 0\, 0\, 0.9)\; font-family:-apple-system\,system-ui\,system-ui\,segoe ui\,roboto\,helvetica neue\,fira sans\,ubuntu\,oxygen\,oxygen sans\,cantarell\,droid sans\,apple color emoji\,segoe ui emoji\,segoe ui emoji\,segoe ui symbol\,lucida grande\,helvetica\,arial\,sans-serif\; font-size:14px">Explore neuroscience and Polyvagal tools to retrain mindset\, stress or trauma responses</span></li>\n</ul>\n<span style="color:rgba(0\, 0\, 0\, 0.9)\; font-family:-apple-system\,system-ui\,system-ui\,segoe ui\,roboto\,helvetica neue\,fira sans\,ubuntu\,oxygen\,oxygen sans\,cantarell\,droid sans\,apple color emoji\,segoe ui emoji\,segoe ui emoji\,segoe ui symbol\,lucida grande\,helvetica\,arial\,sans-serif\; font-size:14px">This interactive\, heart-centered workshop blends education\, epigenetics wisdom\, play\, pranayama\, visualization\, somatic practices\, community connection and inner reflection.</span><br />\n<br />\n<span style="color:rgba(0\, 0\, 0\, 0.9)\; font-family:-apple-system\,system-ui\,system-ui\,segoe ui\,roboto\,helvetica neue\,fira sans\,ubuntu\,oxygen\,oxygen sans\,cantarell\,droid sans\,apple color emoji\,segoe ui emoji\,segoe ui emoji\,segoe ui symbol\,lucida grande\,helvetica\,arial\,sans-serif\; font-size:14px">Saturday\, November 8th at 1:00 - 3:30 pm</span><br />\n<span style="color:rgba(0\, 0\, 0\, 0.9)\; font-family:-apple-system\,system-ui\,system-ui\,segoe ui\,roboto\,helvetica neue\,fira sans\,ubuntu\,oxygen\,oxygen sans\,cantarell\,droid sans\,apple color emoji\,segoe ui emoji\,segoe ui emoji\,segoe ui symbol\,lucida grande\,helvetica\,arial\,sans-serif\; font-size:14px">Only $65</span><br />\n<span style="color:rgba(0\, 0\, 0\, 0.9)\; font-family:-apple-system\,system-ui\,system-ui\,segoe ui\,roboto\,helvetica neue\,fira sans\,ubuntu\,oxygen\,oxygen sans\,cantarell\,droid sans\,apple color emoji\,segoe ui emoji\,segoe ui emoji\,segoe ui symbol\,lucida grande\,helvetica\,arial\,sans-serif\; font-size:14px">Includes healthy tea/snack\, and stress-relief swag bag!</span><br />\n<br />\n<span style="color:rgba(0\, 0\, 0\, 0.9)\; font-family:-apple-system\,system-ui\,system-ui\,segoe ui\,roboto\,helvetica neue\,fira sans\,ubuntu\,oxygen\,oxygen sans\,cantarell\,droid sans\,apple color emoji\,segoe ui emoji\,segoe ui emoji\,segoe ui symbol\,lucida grande\,helvetica\,arial\,sans-serif\; font-size:14px">Meet the Facilitator:</span><br />\n<span style="color:rgba(0\, 0\, 0\, 0.9)\; font-family:-apple-system\,system-ui\,system-ui\,segoe ui\,roboto\,helvetica neue\,fira sans\,ubuntu\,oxygen\,oxygen sans\,cantarell\,droid sans\,apple color emoji\,segoe ui emoji\,segoe ui emoji\,segoe ui symbol\,lucida grande\,helvetica\,arial\,sans-serif\; font-size:14px">Christine Morgenstern Shin\, C-IAYT\, FNLP\, CHHP\, NBC-HWC</span><br />\n<span style="color:rgba(0\, 0\, 0\, 0.9)\; font-family:-apple-system\,system-ui\,system-ui\,segoe ui\,roboto\,helvetica neue\,fira sans\,ubuntu\,oxygen\,oxygen sans\,cantarell\,droid sans\,apple color emoji\,segoe ui emoji\,segoe ui emoji\,segoe ui symbol\,lucida grande\,helvetica\,arial\,sans-serif\; font-size:14px">Clinical Yoga Therapist | Functional Nutrition Practitioner | Board Certified Behavioral Coach</span><br />\n<span style="color:rgba(0\, 0\, 0\, 0.9)\; font-family:-apple-system\,system-ui\,system-ui\,segoe ui\,roboto\,helvetica neue\,fira sans\,ubuntu\,oxygen\,oxygen sans\,cantarell\,droid sans\,apple color emoji\,segoe ui emoji\,segoe ui emoji\,segoe ui symbol\,lucida grande\,helvetica\,arial\,sans-serif\; font-size:14px">www.radiantheart.health</span><br />\n<br />\n<span style="color:rgba(0\, 0\, 0\, 0.9)\; font-family:-apple-system\,system-ui\,system-ui\,segoe ui\,roboto\,helvetica neue\,fira sans\,ubuntu\,oxygen\,oxygen sans\,cantarell\,droid sans\,apple color emoji\,segoe ui emoji\,segoe ui emoji\,segoe ui symbol\,lucida grande\,helvetica\,arial\,sans-serif\; font-size:14px">Christine is an integrative health practitioner and the visionary founder of Radiant Heart - Heal from Within\, a globally recognized lifestyle and longevity practice based in Laguna Beach\, CA. With over 25 years of experience\, Christine has dedicated her career to empowering midlife go-getters to reclaim their energy\, release stress and anxiety\, and resolve stubborn mental and metabolic health challenges.</span><br />\n<span style="color:rgba(0\, 0\, 0\, 0.9)\; font-family:-apple-system\,system-ui\,system-ui\,segoe ui\,roboto\,helvetica neue\,fira sans\,ubuntu\,oxygen\,oxygen sans\,cantarell\,droid sans\,apple color emoji\,segoe ui emoji\,segoe ui emoji\,segoe ui symbol\,lucida grande\,helvetica\,arial\,sans-serif\; font-size:14px">Her unique approach seamlessly blends the latest advancements in neuroscience and functional nutrition with the timeless wisdom of Eastern traditions. By focusing on root-cause solutions\, Christine helps clients reset their nervous system\, brain\, gut\, and metabolism\, fostering sustainable\, transformative change. Her heart-centered guidance and educational approach empowers strivers to move from a state of overwhelm to a life filled with vitality and resilience.</span>
LOCATION:Soul Movement Yoga 25350 Marguerite Pkwy C\, Mission Viejo\, CA 92692
UID:e.2209.72754
SEQUENCE:3
DTSTAMP:20260422T045226Z
URL:https://www.lagunabeachchamber.org/events/details/a-retreat-for-midlife-renewal-a-nervous-system-healing-immersion-72754
END:VEVENT

END:VCALENDAR
