BEGIN:VCALENDAR
VERSION:2.0
PRODID:-//ChamberMaster//Event Calendar 2.0//EN
METHOD:PUBLISH
X-PUBLISHED-TTL:P3D
REFRESH-INTERVAL:P3D
CALSCALE:GREGORIAN
BEGIN:VEVENT
DTSTART:20251122T180000Z
DTEND:20251123T010000Z
X-MICROSOFT-CDO-ALLDAYEVENT:FALSE
SUMMARY:A Day of Kindness
DESCRIPTION:Postponed to November 22nd.
X-ALT-DESC;FMTTYPE=text/html:<p>Postponed to November 22nd.</p>\n
LOCATION:Cobblestones Area Main Beach
UID:e.2209.72757
SEQUENCE:3
DTSTAMP:20260422T044753Z
URL:https://www.lagunabeachchamber.org/events/details/a-day-of-kindness-72757
END:VEVENT

END:VCALENDAR
