BEGIN:VCALENDAR
VERSION:2.0
PRODID:-//ChamberMaster//Event Calendar 2.0//EN
METHOD:PUBLISH
X-PUBLISHED-TTL:P3D
REFRESH-INTERVAL:P3D
CALSCALE:GREGORIAN
BEGIN:VEVENT
DTSTART:20240411T013000Z
DTEND:20240411T030000Z
X-MICROSOFT-CDO-ALLDAYEVENT:FALSE
SUMMARY:7 Steps to Relieve Neck and Back Pain Workshop
DESCRIPTION:If you have been struggling with neck and back pain\, and are longing to find a solution for lasting relief\, this workshop is for you.\n\n \n\nWe have seen thousands healed and restored from these same challenges through the secrets we will share. We want to see you living the active\, pain-free\, and flourishing life you deserve!\n\n\n\nYou will learn:\n\n- What you can do for 10 minutes each day to improve neck and back health & prevent injury and degeneration\n\n- The secrets to postural restoration and why it is so important\n\n- What to never do after injuries if you want to maintain a healthy body\n\n- The top foods you can eat to decrease your proclivity to pain\n\n- Why your symptoms aren't going away easily and what can be done about it\n\n\n\nGive us 90 minutes\, and we will give you the tools and advice you need to get out of pain for good!\n\n\n\nLocated at: 330 Park Ave\, Laguna Beach\, CA\n\n\n\nDINNER PROVIDED   WORKSHOP IS FREE
X-ALT-DESC;FMTTYPE=text/html:<div>If you have been struggling with neck and back pain\, and are longing to find a solution for lasting relief\, this workshop is for you.<br />\n&nbsp\;</div>\n\n<div>We have seen thousands healed and restored from these same challenges through the secrets we will share. We want to see you living the active\, pain-free\, and flourishing life you deserve!</div>\n\n<div><br />\nYou will learn:<br />\n- What you can do for 10 minutes each day to improve neck and back health &amp\; prevent injury and degeneration<br />\n- The secrets to postural restoration and why it is so important<br />\n- What to never do after injuries if you want to maintain a healthy body<br />\n- The top foods you can eat to decrease your proclivity to pain<br />\n- Why your symptoms aren&#39\;t going away easily and what can be done about it</div>\n\n<div><br />\nGive us 90 minutes\, and we will give you the tools and advice you need to get out of pain for good!</div>\n\n<div><br />\nLocated at: 330 Park Ave\, Laguna Beach\, CA</div>\n\n<div><br />\nDINNER PROVIDED &bull\; WORKSHOP IS FREE&nbsp\;</div>\n
LOCATION:330 Park Ave\, Laguna Beach\, CA\, 92651
UID:e.2209.71998
SEQUENCE:3
DTSTAMP:20260425T014646Z
URL:https://www.lagunabeachchamber.org/events/details/7-steps-to-relieve-neck-and-back-pain-workshop-71998
END:VEVENT

END:VCALENDAR
