BEGIN:VCALENDAR
VERSION:2.0
PRODID:-//ChamberMaster//Event Calendar 2.0//EN
METHOD:PUBLISH
X-PUBLISHED-TTL:P3D
REFRESH-INTERVAL:P3D
CALSCALE:GREGORIAN
BEGIN:VEVENT
DTSTART:20230719T180000Z
DTEND:20230719T203000Z
X-MICROSOFT-CDO-ALLDAYEVENT:FALSE
SUMMARY:1st Annual State of the County Luncheon
DESCRIPTION:The inaugural State of the County Luncheon will bring together Orange County elected officials\, public sector employees\, business people and residents.\n\nCome join us to explore the past\, current and future state of the County through presentations made by the esteemed panel.\n\nThe event is open to the public.
X-ALT-DESC;FMTTYPE=text/html:<h3 style="outline: none\; margin: 16px 0px\; line-height: 1.35\; font-size: 18px\; font-family: Lato\; color: rgb(103\, 101\, 101)\; background-color: rgb(255\, 255\, 255)\;"><span style="color:#000000\;">The inaugural State of the County Luncheon will bring together Orange County elected officials\, public sector employees\, business people and residents.</span></h3>\n\n<h3 style="outline: none\; margin: 32px 0px 16px\; line-height: 1.35\; font-size: 18px\; font-family: Lato\; color: rgb(103\, 101\, 101)\; background-color: rgb(255\, 255\, 255)\;"><span style="color:#000000\;">Come join us to explore the past\, current and future state of the County through presentations made by the esteemed panel.</span></h3>\n\n<h3 style="outline: none\; margin: 32px 0px 0px\; line-height: 1.35\; font-size: 18px\; font-family: Lato\; color: rgb(103\, 101\, 101)\; background-color: rgb(255\, 255\, 255)\;"><span style="color:#000000\;"><strong style="outline: none\; margin-bottom: 0px\;">The event is open to the public.</strong></span></h3>\n
LOCATION:Balboa Bay Resort
UID:e.2209.71721
SEQUENCE:3
DTSTAMP:20260425T171057Z
URL:https://www.lagunabeachchamber.org/events/details/1st-annual-state-of-the-county-luncheon-71721
END:VEVENT

END:VCALENDAR
